BEGIN:VCALENDAR
VERSION:2.0
PRODID:-//FRANK Gallery - ECPv6.15.20//NONSGML v1.0//EN
CALSCALE:GREGORIAN
METHOD:PUBLISH
X-ORIGINAL-URL:https://www.frankisart.com
X-WR-CALDESC:Events for FRANK Gallery
REFRESH-INTERVAL;VALUE=DURATION:PT1H
X-Robots-Tag:noindex
X-PUBLISHED-TTL:PT1H
BEGIN:VTIMEZONE
TZID:America/New_York
BEGIN:DAYLIGHT
TZOFFSETFROM:-0500
TZOFFSETTO:-0400
TZNAME:EDT
DTSTART:20250309T070000
END:DAYLIGHT
BEGIN:STANDARD
TZOFFSETFROM:-0400
TZOFFSETTO:-0500
TZNAME:EST
DTSTART:20251102T060000
END:STANDARD
BEGIN:DAYLIGHT
TZOFFSETFROM:-0500
TZOFFSETTO:-0400
TZNAME:EDT
DTSTART:20260308T070000
END:DAYLIGHT
BEGIN:STANDARD
TZOFFSETFROM:-0400
TZOFFSETTO:-0500
TZNAME:EST
DTSTART:20261101T060000
END:STANDARD
BEGIN:DAYLIGHT
TZOFFSETFROM:-0500
TZOFFSETTO:-0400
TZNAME:EDT
DTSTART:20270314T070000
END:DAYLIGHT
BEGIN:STANDARD
TZOFFSETFROM:-0400
TZOFFSETTO:-0500
TZNAME:EST
DTSTART:20271107T060000
END:STANDARD
END:VTIMEZONE
BEGIN:VEVENT
DTSTART;TZID=America/New_York:20260519T000000
DTEND;TZID=America/New_York:20260627T235959
DTSTAMP:20260419T224113
CREATED:20260214T173758Z
LAST-MODIFIED:20260214T215724Z
UID:35512-1779148800-1782604799@www.frankisart.com
SUMMARY:Featured Artists Exhibit May-June 2026
DESCRIPTION:The gallery is featuring the work of member artists Peg Bachenheimer\, Elijah Kell\, and Carol Retsch-Bogart\, as well as guest artists Sasha Bakaric and Clarke Munford. \n\n\n\nOpening reception on May 22nd from 6 to 9 PM.
URL:https://www.frankisart.com/event/featured-artists-exhibit-may-june-2026/
LOCATION:FRANK Gallery\, 370 E. Main St #130\, Carrboro\, NC\, 27510\, United States
CATEGORIES:Exhibit
ATTACH;FMTTYPE=image/jpeg:https://www.frankisart.com/wp-content/uploads/2026/02/Bachenheimer-cropped-image.jpeg
END:VEVENT
BEGIN:VEVENT
DTSTART;TZID=America/New_York:20260607T170000
DTEND;TZID=America/New_York:20260607T193000
DTSTAMP:20260419T224113
CREATED:20251003T165432Z
LAST-MODIFIED:20260329T150706Z
UID:36025-1780851600-1780860600@www.frankisart.com
SUMMARY:The Artistic Palate: An Event for the Senses
DESCRIPTION:Our fan-favorite event is back for a third year! \n\n\n\nExperience a curated and creative culinary journey through FRANK Gallery. Don’t just look at the art\, interact with it using ALL of your senses. \n\n\n\nSEE art from our FIVE featured artists: Peg Bachenheimer\, Elijah Kell\, Carol Retsch-Bogart\, Sasha Bakaric\, and Clarke Munford. \n\n\n\nSMELL and TASTE creative and delicious plates\, as Chef Jacob Boehm of Snappea Creative Dining responds to each of the artists with his own culinary palate. HEAR poetry from Carrboro Poet Laureate Dr. Amanda Bennett and art-inspired music from the Assemblage Trio: Howard Shertzer\, Ellen Shertzer\, and Ellen Horner. A trio of clarinet\, saxophone\, and cello\, this group provides a unique combination of instruments not usually found together. TOUCH the art? Yes\, we have some pieces that you can experience through touch.    You can’t do this in a museum … but you can at FRANK! Only on Sunday\, June 7 at 5 PM. \n\n\n\nTickets are $175 for the dinner\, including wine/sparkling water and this unique Feast for the Senses.
URL:https://www.frankisart.com/event/the-artistic-palate-2026/
LOCATION:FRANK Gallery\, 370 E. Main St #130\, Carrboro\, NC\, 27510\, United States
CATEGORIES:Event,Featured
ATTACH;FMTTYPE=image/jpeg:https://www.frankisart.com/wp-content/uploads/2026/02/The-Artistic-Palate-small.jpg
END:VEVENT
BEGIN:VEVENT
DTSTART;TZID=America/New_York:20260612T180000
DTEND;TZID=America/New_York:20260612T210000
DTSTAMP:20260419T224113
CREATED:20251210T151823Z
LAST-MODIFIED:20251210T151825Z
UID:34285-1781287200-1781298000@www.frankisart.com
SUMMARY:Second Friday Art Walk
DESCRIPTION:Stop by the gallery for our monthly Second Friday reception!
URL:https://www.frankisart.com/event/second-friday-art-walk-13/
LOCATION:FRANK Gallery\, 370 E. Main St #130\, Carrboro\, NC\, 27510\, United States
CATEGORIES:Event
ATTACH;FMTTYPE=image/jpeg:https://www.frankisart.com/wp-content/uploads/2024/05/SecondFriday-promo.jpg
END:VEVENT
BEGIN:VEVENT
DTSTART;TZID=America/New_York:20260630T000000
DTEND;TZID=America/New_York:20260815T235959
DTSTAMP:20260419T224113
CREATED:20260214T175430Z
LAST-MODIFIED:20260228T183843Z
UID:35544-1782777600-1786838399@www.frankisart.com
SUMMARY:Featured Artists Exhibit June-August 2026
DESCRIPTION:The gallery is featuring the work of member artists Natalie Boorman and Nerys Levy\, as well as FRANK Emerging Artist Lah Boh. \n\n\n\nWe are also featuring a group landscape show\, our Second Annual Scapes Exhibit. \n\n\n\nOpening reception on July 10\, 2026 from 6 to 9 PM.
URL:https://www.frankisart.com/event/featured-artists-exhibit-june-august-2026/
LOCATION:FRANK Gallery\, 370 E. Main St #130\, Carrboro\, NC\, 27510\, United States
CATEGORIES:Exhibit
ATTACH;FMTTYPE=image/jpeg:https://www.frankisart.com/wp-content/uploads/2026/02/Nerys-cropped-image.jpeg
END:VEVENT
BEGIN:VEVENT
DTSTART;TZID=America/New_York:20260630T000000
DTEND;TZID=America/New_York:20260815T235959
DTSTAMP:20260419T224113
CREATED:20260214T181242Z
LAST-MODIFIED:20260214T215543Z
UID:35548-1782777600-1786838399@www.frankisart.com
SUMMARY:Second Annual Scapes Exhibit June-August 2026
DESCRIPTION:Group Landscape Show\n\n\n\nJoin us as we explore the definition of “Scapes” through different mediums and interpretations. \n\n\n\nThis group exhibition will feature many of our member artists and guest artists\, and it will be on view alongside our Featured Artists Exhibit from June 30 through August 15. \n\n\n\nOpening reception on July 10\, 2026.
URL:https://www.frankisart.com/event/second-annual-scapes-exhibit/
LOCATION:FRANK Gallery\, 370 E. Main St #130\, Carrboro\, NC\, 27510\, United States
CATEGORIES:Exhibit
ATTACH;FMTTYPE=image/jpeg:https://www.frankisart.com/wp-content/uploads/2026/02/Paulsen-cropped.jpg
END:VEVENT
END:VCALENDAR