BEGIN:VCALENDAR
VERSION:2.0
PRODID:-//FRANK Gallery - ECPv6.15.20//NONSGML v1.0//EN
CALSCALE:GREGORIAN
METHOD:PUBLISH
X-ORIGINAL-URL:https://www.frankisart.com
X-WR-CALDESC:Events for FRANK Gallery
REFRESH-INTERVAL;VALUE=DURATION:PT1H
X-Robots-Tag:noindex
X-PUBLISHED-TTL:PT1H
BEGIN:VTIMEZONE
TZID:America/New_York
BEGIN:DAYLIGHT
TZOFFSETFROM:-0500
TZOFFSETTO:-0400
TZNAME:EDT
DTSTART:20220313T070000
END:DAYLIGHT
BEGIN:STANDARD
TZOFFSETFROM:-0400
TZOFFSETTO:-0500
TZNAME:EST
DTSTART:20221106T060000
END:STANDARD
BEGIN:DAYLIGHT
TZOFFSETFROM:-0500
TZOFFSETTO:-0400
TZNAME:EDT
DTSTART:20230312T070000
END:DAYLIGHT
BEGIN:STANDARD
TZOFFSETFROM:-0400
TZOFFSETTO:-0500
TZNAME:EST
DTSTART:20231105T060000
END:STANDARD
BEGIN:DAYLIGHT
TZOFFSETFROM:-0500
TZOFFSETTO:-0400
TZNAME:EDT
DTSTART:20240310T070000
END:DAYLIGHT
BEGIN:STANDARD
TZOFFSETFROM:-0400
TZOFFSETTO:-0500
TZNAME:EST
DTSTART:20241103T060000
END:STANDARD
END:VTIMEZONE
BEGIN:VEVENT
DTSTART;TZID=America/New_York:20230926T000000
DTEND;TZID=America/New_York:20231111T235959
DTSTAMP:20260419T112746
CREATED:20230810T203205Z
LAST-MODIFIED:20230924T211110Z
UID:4819-1695686400-1699747199@www.frankisart.com
SUMMARY:Featured Artists Exhibit Sep/Nov 2023
DESCRIPTION:Featuring Barbara Tyroler\, Dan Gottlieb and guest artist Daniel Johnston. \n\n\n\n\n\n\n\n\n\n\nBarbara Tyroler\n\n\n\nBarbara Tyroler\, a multi-talented professional portrait photographer\, artist\, college-level educator\, and dedicated community advocate.  Her recent collection of tree photography exudes a captivating blend of technical prowess and artistic sensibility.  \n\n\n\nWith a keen eye for detail and a unique artistic perspective\, Barbara’s work transcends traditional photography\, transforming trees into mesmerizing subjects that evoke emotion and connection with the natural world. Her portfolio showcases a blend of creative portrait consignments\, one-on-one photo tutorials\, and small group workshops\, making her not only a skilled photographer but also a passionate educator who shares her expertise with others. Through her lens\, Barbara Tyroler invites us to appreciate the sublime elegance of trees and the power of visual storytelling. \n\n\n\n\n\n\n\n\n\n\n\n\nDan Gottlieb\n\n\n\nDan Gottlieb’s photography is a mesmerizing fusion of innovation and craftsmanship. His proprietary process\, a meticulously designed blend of non-traditional materials and painstaking effort\, breathes life into his images. By subjecting long camera exposures to a digital reversal and then printing them on clear acrylic panels\, Dan creates ethereal visuals that seem to transcend the boundaries of traditional photography. His dedication to achieving luminosity is evident through the application of foundational paint layers behind the image\, followed by meticulous hand-polishing with fine compounds. In his “SWAMP” series\, Dan draws inspiration from North Carolina’s evocative lowland ecosystems\, capturing their haunting beauty and fragility. This body of work\, stemming from his residency at The Peanut Factory in Edenton\, is a testament to Dan’s unique vision and artistic innovation. \n\n\n\n\n\n\n\n\nDaniel Johnston\n\n\n\nDaniel Johnston\, a prominent North Carolina-based potter with a national presence\, is celebrated for his remarkable craftsmanship in creating large-scale pottery. With a deep-rooted connection to the rich traditions of ceramics in his home state\, Daniel’s work transcends conventional boundaries. His creations are a testament to his mastery of form\, marrying functionality with artistic expression. Through his skillful hands\, he transforms clay into stunning\, monumental vessels that not only serve as utilitarian pieces but also as captivating works of art. Daniel Johnston’s pottery stands as a testament to his enduring dedication to the craft and his ability to capture the essence of North Carolina’s pottery heritage on a grand scale.
URL:https://www.frankisart.com/event/featured-artists-exhibit-sep-nov-2023/
LOCATION:FRANK Gallery\, 370 E. Main St #130\, Carrboro\, NC\, 27510\, United States
CATEGORIES:Exhibit
ATTACH;FMTTYPE=image/jpeg:https://www.frankisart.com/wp-content/uploads/2023/08/Tyroler-HudsonRiverValley-crop.jpg
END:VEVENT
BEGIN:VEVENT
DTSTART;TZID=America/New_York:20231110T180000
DTEND;TZID=America/New_York:20231110T210000
DTSTAMP:20260419T112746
CREATED:20231107T184032Z
LAST-MODIFIED:20231114T232121Z
UID:10408-1699639200-1699650000@www.frankisart.com
SUMMARY:Second Friday and Closing Reception
DESCRIPTION:Come by FRANK this Friday from 6-9pm for Carrboro’s Second Friday and to celebrate the last week of the current show featuring the work of guest artist and ceramicist Daniel Johnston and members and photographers Dan Gottlieb\, and Barbara Tyroler. Show Ends November 11th.
URL:https://www.frankisart.com/event/second-friday-and-closing-reception/
LOCATION:NC
CATEGORIES:Event,Exhibit,Opening
ATTACH;FMTTYPE=image/jpeg:https://www.frankisart.com/wp-content/uploads/2023/11/IMG_8872-1-rotated.jpeg
END:VEVENT
BEGIN:VEVENT
DTSTART;TZID=America/New_York:20231114T000000
DTEND;TZID=America/New_York:20231224T235959
DTSTAMP:20260419T112746
CREATED:20230808T184058Z
LAST-MODIFIED:20231114T232327Z
UID:10045-1699920000-1703462399@www.frankisart.com
SUMMARY:2023 Holiday Exhibit
DESCRIPTION:Excellent work from all our FRANK member artists\, guests\, and many new artists will be on display in the gallery. This curated show highlights gift giving with a variety of media and price points represented. Gift local! Opening Reception December 8 from 6-9 pm.
URL:https://www.frankisart.com/event/2023-holiday-exhibit/
LOCATION:FRANK Gallery\, 370 E. Main St #130\, Carrboro\, NC\, 27510\, United States
CATEGORIES:Exhibit
ATTACH;FMTTYPE=image/jpeg:https://www.frankisart.com/wp-content/uploads/2023/11/nov-dec3-promoImage.jpg
END:VEVENT
END:VCALENDAR