BEGIN:VCALENDAR
VERSION:2.0
PRODID:-//FRANK Gallery - ECPv6.15.20//NONSGML v1.0//EN
CALSCALE:GREGORIAN
METHOD:PUBLISH
X-WR-CALNAME:FRANK Gallery
X-ORIGINAL-URL:https://www.frankisart.com
X-WR-CALDESC:Events for FRANK Gallery
REFRESH-INTERVAL;VALUE=DURATION:PT1H
X-Robots-Tag:noindex
X-PUBLISHED-TTL:PT1H
BEGIN:VTIMEZONE
TZID:America/New_York
BEGIN:DAYLIGHT
TZOFFSETFROM:-0500
TZOFFSETTO:-0400
TZNAME:EDT
DTSTART:20220313T070000
END:DAYLIGHT
BEGIN:STANDARD
TZOFFSETFROM:-0400
TZOFFSETTO:-0500
TZNAME:EST
DTSTART:20221106T060000
END:STANDARD
BEGIN:DAYLIGHT
TZOFFSETFROM:-0500
TZOFFSETTO:-0400
TZNAME:EDT
DTSTART:20230312T070000
END:DAYLIGHT
BEGIN:STANDARD
TZOFFSETFROM:-0400
TZOFFSETTO:-0500
TZNAME:EST
DTSTART:20231105T060000
END:STANDARD
BEGIN:DAYLIGHT
TZOFFSETFROM:-0500
TZOFFSETTO:-0400
TZNAME:EDT
DTSTART:20240310T070000
END:DAYLIGHT
BEGIN:STANDARD
TZOFFSETFROM:-0400
TZOFFSETTO:-0500
TZNAME:EST
DTSTART:20241103T060000
END:STANDARD
END:VTIMEZONE
BEGIN:VEVENT
DTSTART;TZID=America/New_York:20230620T000000
DTEND;TZID=America/New_York:20230805T235959
DTSTAMP:20260419T170456
CREATED:20230725T172943Z
LAST-MODIFIED:20230807T161754Z
UID:552-1687219200-1691279999@www.frankisart.com
SUMMARY:Featured Artists Exhibit for Jun/Aug 2023
DESCRIPTION:Featuring member artists Michele Maynard\, Theresa P-Tan\, Keith Allen and guest artist Bryant Holsenbeck\nOPENING RECEPTION JULY 14 FROM 6-9 PM\n \n\n\n\nMichele Maynard \n\n\n\nThrough her featured series “Trail Diaries\,” Michele invites viewers to immerse themselves in the beauty of the landscapes and nature that are so close to her own heart. Employing a combination of gouache\, ink\, and drawing techniques\, Michele skillfully brings to life scenes that evoke a profound connection to the environment with a “sprinkle of magical realism.” Michele Maynard’s Trail Diaries series is a testament to her artistic prowess and unwavering passion for both art and nature\, leaving an indelible mark on those fortunate enough to experience her captivating creations. \n\n\n\n\n\nTheresa P-Tan \n\n\n\nTheresa P-Tan\, an mixed media artist\, is constantly pushing the boundaries of her craft through fearless experimentation. With a relentless desire to explore new artistic avenues\, Theresa’s work is a testament to her creativity with mixed media. She adeptly plays with layers of collage and marks\, employing a rich assortment of mediums including paint\, graphite\, and various other materials. This dynamic approach allows her to construct captivating textures that captivate the viewer’s gaze. \n\n\n\n\n\nKeith Allen \n\n\n\nKeith Allen\, a skilled artist and woodworker\, creates pieces that seamlessly merge functionality with captivating forms. While his works serve practical purposes\, Allen’s primary focus lies in the artistic expression of their shapes and structures. A distinct characteristic of Allen’s artistry is his adept juxtaposition of rustic natural details and stark geometry within the same artwork. This contrasting blend adds depth and intrigue\, inviting viewers to explore the harmonious coexistence of organic elements and precise lines. Through his meticulous craftsmanship\, Keith Allen crafts wooden masterpieces that transcend conventional boundaries\, captivating both the eye and the imagination. \n\n\n\n\n\nBryant Holsenbeck \n\n\n\nBryant Holsenbeck\, an artist with a profound environmental consciousness\, reimagines discarded objects and transforms them into remarkable works of art. Her creative process revolves around using “stuff” that society deems no longer necessary\, breathing new life into these forgotten materials. By utilizing plastic bags and textile scraps\, she meticulously crafts intricate animal sculptures that resonate with viewers. Bryant Holsenbeck’s art is a testament to the transformative power of creativity and a call to action to use less and appreciate more.
URL:https://www.frankisart.com/event/featured-artists-exhibit-for-jun-aug-2023/
LOCATION:FRANK Gallery\, 370 E. Main St #130\, Carrboro\, NC\, 27510\, United States
CATEGORIES:Exhibit
END:VEVENT
BEGIN:VEVENT
DTSTART;TZID=America/New_York:20230805T100000
DTEND;TZID=America/New_York:20230805T110000
DTSTAMP:20260419T170456
CREATED:20230807T154802Z
LAST-MODIFIED:20230808T195213Z
UID:3846-1691229600-1691233200@www.frankisart.com
SUMMARY:Coffee with FRANK: Foraged and Handmade Pigments with Natalia Torres Del Valle
DESCRIPTION:Join us Saturday\, August 5 from 10 to 11 am for the latest event in our Coffee with FRANK series. Guest artist Natalia Torres del Valle will lead a talk about her foraged and handmade pigments which she uses in her artwork. The event is free!
URL:https://www.frankisart.com/event/coffee-with-frank-foraged-and-handmade-pigments-with-natalia-torres-del-valle/
LOCATION:NC
CATEGORIES:Event
ATTACH;FMTTYPE=image/jpeg:https://www.frankisart.com/wp-content/uploads/2023/08/image0.jpg
END:VEVENT
BEGIN:VEVENT
DTSTART;TZID=America/New_York:20230808T000000
DTEND;TZID=America/New_York:20230923T235959
DTSTAMP:20260419T170457
CREATED:20230814T150937Z
LAST-MODIFIED:20230820T143126Z
UID:5273-1691452800-1695513599@www.frankisart.com
SUMMARY:Featured Artists Exhibit Aug/Sep 2023
DESCRIPTION:R. Scott Horner\n\n\n\nThese paintings embrace the chaos and regularity\, the calm entropy that pushes and pulls the world around us. By layering paint\, old events are covered up\, and sometimes rediscovered through transparency or scratch-throughs. The painting builds its own history\, allowing viewers to discover many stories within it. The work in this exhibit showcases Scott’s recent focus on the dynamics of rocks and stones. While he avoids direct representation\, the colors\, forms and other influences from the stony creek that runs through Scott’s backyard are apparent. \n\n\n\n\n\n\n\n\n\nSusan Filley\n\n\n\nSusan Filley is a highly acclaimed porcelain artist whose exceptional talent shines through her masterful creations. Renowned for her sumptuous glazes and impeccable craftsmanship\, each of Filley’s pieces exudes an ethereal beauty that captivates an audience. With an unwavering commitment to perfection\, she meticulously shapes her porcelain works into stunning forms that radiate elegance and sophistication. \n\n\n\n\n\n\n\n\n\nKaidy Lewis\n\n\n\nBritish artist Kaidy Lewis is a local talent whose extraordinary artwork seamlessly blends the abstract and the figurative\, resulting in a captivating visual narrative. Drawing inspiration from the nuances of daily life\, Lewis skillfully infuses her creations with a unique perspective that resonates with viewers on a deeply emotional level. Through her colors and form\, Lewis creates a vivid backdrop that serves as a canvas for female insights and experiences\, offering profound reflections on the art of living. With every stroke of her brush\, she invites us to delve into a realm where abstraction meets representation\, resulting in a body of work that is visually stunning. \n\n\n\n\n\n\n\n\n\nPolina Varlamova\n\n\n\nPolina Varlamova is FRANK’s emerging artist with a special feature in this exhibit. Her creative journey revolves around a profound reflection on her experience of emigration. Drawing from deeply personal archives and tracing her own metamorphosis\, she delves fearlessly into the history of her family\, unraveling the complexities of hybrid identities and the convergence of diverse cultures. With each stroke of creativity\, Polina Varlamova emerges as a captivating storyteller\, weaving together the strands of her heritage and the narrative of her present\, offering a glimpse into the profound and multifaceted nature of the human experience. \n\n\n\n\n\n\n\n\n\nJoe Grant\n\n\n\nFeatured guest artist and director of Starworks Glass\, Joe Grant\, is a visionary whose work is deeply inspired by the interplay of nature\, science\, and art. Through a harmonious blend of traditional craftsmanship and cutting-edge techniques\, he brings his artistic visions to life\, elevating glass art to new heights. With an unyielding commitment to precision\, he continually pushes the boundaries of his craft\, delving into the minutiae of the natural realm\, capturing its essence with each delicate curve and vibrant hue. His profound connection with his art and skill shines through each of his pieces\, inviting all to revel in the mesmerizing magic he brings to life within each magnificent piece.
URL:https://www.frankisart.com/event/featured-artists-exhibit-aug-sep-32023/
LOCATION:FRANK Gallery\, 370 E. Main St #130\, Carrboro\, NC\, 27510\, United States
CATEGORIES:Exhibit
ATTACH;FMTTYPE=image/jpeg:https://www.frankisart.com/wp-content/uploads/2023/08/angels-in-the-talus-diptych-1.jpg
END:VEVENT
END:VCALENDAR