BEGIN:VCALENDAR
VERSION:2.0
PRODID:-//FRANK Gallery - ECPv6.15.20//NONSGML v1.0//EN
CALSCALE:GREGORIAN
METHOD:PUBLISH
X-WR-CALNAME:FRANK Gallery
X-ORIGINAL-URL:https://www.frankisart.com
X-WR-CALDESC:Events for FRANK Gallery
REFRESH-INTERVAL;VALUE=DURATION:PT1H
X-Robots-Tag:noindex
X-PUBLISHED-TTL:PT1H
BEGIN:VTIMEZONE
TZID:America/New_York
BEGIN:DAYLIGHT
TZOFFSETFROM:-0500
TZOFFSETTO:-0400
TZNAME:EDT
DTSTART:20220313T070000
END:DAYLIGHT
BEGIN:STANDARD
TZOFFSETFROM:-0400
TZOFFSETTO:-0500
TZNAME:EST
DTSTART:20221106T060000
END:STANDARD
BEGIN:DAYLIGHT
TZOFFSETFROM:-0500
TZOFFSETTO:-0400
TZNAME:EDT
DTSTART:20230312T070000
END:DAYLIGHT
BEGIN:STANDARD
TZOFFSETFROM:-0400
TZOFFSETTO:-0500
TZNAME:EST
DTSTART:20231105T060000
END:STANDARD
BEGIN:DAYLIGHT
TZOFFSETFROM:-0500
TZOFFSETTO:-0400
TZNAME:EDT
DTSTART:20240310T070000
END:DAYLIGHT
BEGIN:STANDARD
TZOFFSETFROM:-0400
TZOFFSETTO:-0500
TZNAME:EST
DTSTART:20241103T060000
END:STANDARD
END:VTIMEZONE
BEGIN:VEVENT
DTSTART;TZID=America/New_York:20230207T000000
DTEND;TZID=America/New_York:20230430T000000
DTSTAMP:20260422T074550
CREATED:20230808T193306Z
LAST-MODIFIED:20230808T200143Z
UID:3875-1675728000-1682812800@www.frankisart.com
SUMMARY:Members' Showcase Exhibit
DESCRIPTION:To celebrate our last weeks at University Place\, FRANK member artists are showing their work in a large group exhibit. Come see pieces by your favorite artists\, and ask us about our move to Carrboro.
URL:https://www.frankisart.com/event/members-showcase-exhibit/
LOCATION:NC
CATEGORIES:Exhibit
ATTACH;FMTTYPE=image/jpeg:https://www.frankisart.com/wp-content/uploads/2023/08/exhibit-promo-2-2023.jpg
END:VEVENT
BEGIN:VEVENT
DTSTART;TZID=America/New_York:20230328T000000
DTEND;TZID=America/New_York:20230430T235959
DTSTAMP:20260422T074550
CREATED:20230725T182558Z
LAST-MODIFIED:20230808T195026Z
UID:570-1679961600-1682899199@www.frankisart.com
SUMMARY:Spring Member's Showcase 2023
DESCRIPTION:We open up our new Carrboro gallery space with a Spring group exhibit of FRANK member artists. Come see the new gallery and enjoy works by your favorite artists.
URL:https://www.frankisart.com/event/spring-members-showcase-2023/
LOCATION:FRANK Gallery\, 370 E. Main St #130\, Carrboro\, NC\, 27510\, United States
CATEGORIES:Exhibit
ATTACH;FMTTYPE=image/jpeg:https://www.frankisart.com/wp-content/uploads/2023/08/exhibit-promo-apr-may-23-2.jpg
END:VEVENT
BEGIN:VEVENT
DTSTART;TZID=America/New_York:20230410T153000
DTEND;TZID=America/New_York:20230410T170000
DTSTAMP:20260422T074550
CREATED:20230807T174537Z
LAST-MODIFIED:20230807T174539Z
UID:3871-1681140600-1681146000@www.frankisart.com
SUMMARY:Ribbon Cutting
DESCRIPTION:with the Chapel Hill/Carrboro Chamber of CommerceJoin us for a ribbon cutting ceremony to celebrate FRANK’s new home in Carrboro. Thank you to the Chamber of Commerce for hosting this exciting event.
URL:https://www.frankisart.com/event/ribbon-cutting/
LOCATION:NC
CATEGORIES:Event
ATTACH;FMTTYPE=image/jpeg:https://www.frankisart.com/wp-content/uploads/2023/08/Insta-square-carrboro-map.jpg
END:VEVENT
BEGIN:VEVENT
DTSTART;TZID=America/New_York:20230422T170000
DTEND;TZID=America/New_York:20230422T200000
DTSTAMP:20260422T074550
CREATED:20230808T193809Z
LAST-MODIFIED:20230808T193811Z
UID:3872-1682182800-1682193600@www.frankisart.com
SUMMARY:GRAND OPENING CELEBRATION!
DESCRIPTION:Join us on April 22 to celebrate FRANK’s new location in Carrboro\, East Main Square! We are so excited about our brand new space and look forward to celebrating with all of you. Come out and take part in music\, drinks\, hor d’oeuvres provided by IZA Whiskey & Eats\, raffles with exciting prizes\, and lots of artists and art!
URL:https://www.frankisart.com/event/grand-opening-celebration/
LOCATION:NC
CATEGORIES:Event
ATTACH;FMTTYPE=image/jpeg:https://www.frankisart.com/wp-content/uploads/2023/08/9871DB32-C300-4AEA-BD00-29CDFE36EFCF.jpg
END:VEVENT
END:VCALENDAR