BEGIN:VCALENDAR
VERSION:2.0
PRODID:-//FRANK Gallery - ECPv6.15.20//NONSGML v1.0//EN
CALSCALE:GREGORIAN
METHOD:PUBLISH
X-ORIGINAL-URL:https://www.frankisart.com
X-WR-CALDESC:Events for FRANK Gallery
REFRESH-INTERVAL;VALUE=DURATION:PT1H
X-Robots-Tag:noindex
X-PUBLISHED-TTL:PT1H
BEGIN:VTIMEZONE
TZID:America/New_York
BEGIN:DAYLIGHT
TZOFFSETFROM:-0500
TZOFFSETTO:-0400
TZNAME:EDT
DTSTART:20200308T070000
END:DAYLIGHT
BEGIN:STANDARD
TZOFFSETFROM:-0400
TZOFFSETTO:-0500
TZNAME:EST
DTSTART:20201101T060000
END:STANDARD
BEGIN:DAYLIGHT
TZOFFSETFROM:-0500
TZOFFSETTO:-0400
TZNAME:EDT
DTSTART:20210314T070000
END:DAYLIGHT
BEGIN:STANDARD
TZOFFSETFROM:-0400
TZOFFSETTO:-0500
TZNAME:EST
DTSTART:20211107T060000
END:STANDARD
BEGIN:DAYLIGHT
TZOFFSETFROM:-0500
TZOFFSETTO:-0400
TZNAME:EDT
DTSTART:20220313T070000
END:DAYLIGHT
BEGIN:STANDARD
TZOFFSETFROM:-0400
TZOFFSETTO:-0500
TZNAME:EST
DTSTART:20221106T060000
END:STANDARD
END:VTIMEZONE
BEGIN:VEVENT
DTSTART;TZID=America/New_York:20210928T000000
DTEND;TZID=America/New_York:20211113T000000
DTSTAMP:20260423T144125
CREATED:20230808T184241Z
LAST-MODIFIED:20230808T184243Z
UID:3916-1632787200-1636761600@www.frankisart.com
SUMMARY:Featured Artists Exhibit for September/November 2021
DESCRIPTION:Featuring Carolyn Rugen\, Kaidy Lewis and Tinka Jordy  \nVIRTUAL RECEPTION & ARTIST TALK: FRIDAY\, OCTOBER 22 6-7 PM \nThe gallery is excited to feature the paintings of members\, Kaidy Lewis and Carolyn Rugen and sculptural work of guest artist\, Tinka Jordy. \n\n\n\nCarolyn Rugen\nAll of my work is grounded in my perceptions of the natural world – it is about seeing and feeling deeply about what is seen.  This work is perhaps the most autobiographical of any of my work. \n\n\n\n\n\n\nI was born on a small farm in rural Tennessee.  My earliest memories are of the open comforting fields\, and sky\, dense woods\, and the animals\, always the animals.  And I was able to fulfill many a young girls dream\, that of having her own horse and riding frequently.   \nThen came college\, marriage\, three children\, an advanced degree in library science\, the study of art history\, a museum internship and finally the serious work of trying to make art. And most of this time I lived in cities. \nAbout thirty years ago my husband and I built a house in Chapel Hill and I was delighted\, after a short drive out into the country\, to find myself surrounded by the same gentle landscape that I had grown up with.  Out on Mt. Carmel Church Rd. I came upon a field of beautiful horses and after a chat with the farmer I was able to sit on the edge of the pasture and draw.  And a few years later my oldest daughter and I spent a magical three days at the Cataloochee Ranch  in Maggie Valley\, NC with and riding the horses.  \nAnd here are these paintings.   \n  \n\n\n\n\n\n \n \n\n \n\n\n\n\n\n\n\n\nKaidy Lewis\n‘I began these paintings with the expectation that we were emerging from Covid-19. This exceptional time is hybrid. It is collectively new and yet the same as the time before. This is what I examine when I paint. In the process my intention(consciousness) dances with my unconscious. Often offering me up a way to understand my experience of the world a little ( sometimes to my own surprise). I paint in all orientations of a 2D canvas as there are no sides in a round world. \nAs I apply paint I am trying to understand world dynamics\, patterns\, distortions\, humor\, truth beauty and essence. I glimpse at several realities often saying the same. \nWhen I emerge from painting\, I check that every inch of the canvas sings\, whether it be in the narrative\, design or paint. They are made to be generous for years to come’. \n \n\n\n\n\n\n \n \n\n \n\n\n\n\n\n\n\n\nTinka Jordy\nThe surfaces of my sculptures are full of surface cracks\, fissures and imperfections that express the earth\, the passing of time\, our mortality\, vulnerability\, and the search for spirituality and acceptance. I work on them until they look back at me.  \nAlthough the viewer is not there during the actual creation of this work\, it’s my intention that the final piece will draw the viewer in to participate in the sensuality of the work\, and that their perceptions will be questioned\, while their emotions are evoked\, through my use of the clay in its final form\, scale and texture.  \nFor over 40 years I have worked in clay as it is the one material that\, if I listen closely\, communicates these sentiments so beautifully.
URL:https://www.frankisart.com/event/featured-artists-exhibit-for-september-november-2021/
LOCATION:NC
CATEGORIES:Exhibit
ATTACH;FMTTYPE=image/jpeg:https://www.frankisart.com/wp-content/uploads/2023/08/octnov2021-exhibit.jpg
END:VEVENT
BEGIN:VEVENT
DTSTART;TZID=America/New_York:20211009T180000
DTEND;TZID=America/New_York:20211009T210000
DTSTAMP:20260423T144125
CREATED:20230808T184531Z
LAST-MODIFIED:20230808T184637Z
UID:3915-1633802400-1633813200@www.frankisart.com
SUMMARY:2021 Off the Wall Fundraising Gala
DESCRIPTION:FRANK’S SIGNATURE FUNDRAISING EVENT IS WELL-KNOWN FOR ITS EXCITEMENT\, SPECTACULAR SELECTION OF ART\, AND COMMUNITY ROOTS. JOIN US IN OUR 11TH YEAR AS WE SUPPORT FRANK GALLERY’S MISSION TO ENRICH OUR COMMUNITY THROUGH ART. \nHow does it work? With the purchase of an Art Ticket\, the ticket holder’s name is entered into a pool with other art ticket holders at the beginning of the night. When the drawing starts\, the names of art ticket holders will be drawn at random (this is the fun part!) and read out loud by our emcee\, local radio personality\, Aaron Keck. Once your name is called\, you’ll have one minute to choose your favorite piece of art “off the wall” to take home. It gets exciting as you never know what the next piece to go will be! \nYou are also invited to visit the gallery the week before the event to see all the donated art in person and we will be sending out an artwork list prior to the event so everyone can make a list of your favorite art\, in order of preference.  \nThere will be over 70 pieces of donated art (from our generous artists!) all valued at more than the price of a ticket and will be posted on our website prior to the event\, so stay tuned and check back often to get an early look. \nWhere? The Gala will be live broadcast via Zoom from the Gallery to your home where you can enjoy art and gourmet food in the comfort and safety of home.  \nHow much are tickets? Tickets for virtual attendance are $395 for two people for one piece of art.  \nWe would love if you could join us from anywhere in the country and are happy to ship you the piece of art you win at an additional cost. 
URL:https://www.frankisart.com/event/2021-off-the-wall-fundraising-gala/
LOCATION:NC
CATEGORIES:Event
ATTACH;FMTTYPE=image/jpeg:https://www.frankisart.com/wp-content/uploads/2023/08/OTWGala2021-wide.jpg
END:VEVENT
BEGIN:VEVENT
DTSTART;TZID=America/New_York:20211026T000000
DTEND;TZID=America/New_York:20211113T000000
DTSTAMP:20260423T144125
CREATED:20230808T184818Z
LAST-MODIFIED:20230808T184820Z
UID:3914-1635206400-1636761600@www.frankisart.com
SUMMARY:FRANK in Focus
DESCRIPTION:FRANK Gallery has a space dedicated to the photographers of FRANK in Focus which is in association with the triangle-wide CLICK Photography Festival. \nFeaturing a selection of works by photographers; Dan Gottlieb\, John Rosenthal\, Alan Dehmer\, Bill McAllister\, Peter Filene\, Barbara Tyroler and with Barbara’s workshop participants Dawn Colsia and Diane Cashion.
URL:https://www.frankisart.com/event/frank-in-focus/
LOCATION:NC
CATEGORIES:Exhibit
ATTACH;FMTTYPE=image/jpeg:https://www.frankisart.com/wp-content/uploads/2023/08/frankinfocus21.jpg
END:VEVENT
END:VCALENDAR