BEGIN:VCALENDAR
VERSION:2.0
PRODID:-//FRANK Gallery - ECPv6.15.20//NONSGML v1.0//EN
CALSCALE:GREGORIAN
METHOD:PUBLISH
X-WR-CALNAME:FRANK Gallery
X-ORIGINAL-URL:https://www.frankisart.com
X-WR-CALDESC:Events for FRANK Gallery
REFRESH-INTERVAL;VALUE=DURATION:PT1H
X-Robots-Tag:noindex
X-PUBLISHED-TTL:PT1H
BEGIN:VTIMEZONE
TZID:America/New_York
BEGIN:DAYLIGHT
TZOFFSETFROM:-0500
TZOFFSETTO:-0400
TZNAME:EDT
DTSTART:20190310T070000
END:DAYLIGHT
BEGIN:STANDARD
TZOFFSETFROM:-0400
TZOFFSETTO:-0500
TZNAME:EST
DTSTART:20191103T060000
END:STANDARD
BEGIN:DAYLIGHT
TZOFFSETFROM:-0500
TZOFFSETTO:-0400
TZNAME:EDT
DTSTART:20200308T070000
END:DAYLIGHT
BEGIN:STANDARD
TZOFFSETFROM:-0400
TZOFFSETTO:-0500
TZNAME:EST
DTSTART:20201101T060000
END:STANDARD
BEGIN:DAYLIGHT
TZOFFSETFROM:-0500
TZOFFSETTO:-0400
TZNAME:EDT
DTSTART:20210314T070000
END:DAYLIGHT
BEGIN:STANDARD
TZOFFSETFROM:-0400
TZOFFSETTO:-0500
TZNAME:EST
DTSTART:20211107T060000
END:STANDARD
END:VTIMEZONE
BEGIN:VEVENT
DTSTART;TZID=America/New_York:20200709T000000
DTEND;TZID=America/New_York:20200905T000000
DTSTAMP:20260424T115429
CREATED:20230808T182830Z
LAST-MODIFIED:20230808T182831Z
UID:3926-1594252800-1599264000@www.frankisart.com
SUMMARY:Featured Artists Exhibit for July/August 2020
DESCRIPTION:Featuring Charlie Dupee\, Susan Finer\, Rosalie Midyette\, Theresa Pastoriza-Tan \nJULY 9TH-SEPTEMBER 5TH \nPlease join us on July 9th for the new exhibit in the gallery featuring Charlie Dupee\, Susan Finer\, Rosalie Midyette\, and Theresa Pastoriza-Tan. In their debut featured show at the gallery\, FRANK is excited to showcase the work of the four artists in a highly creative and stunning exhibit showcasing a variety of mediums. \nCharlie Dupee has been the “emerging apprentice artist” at FRANK for the last year\, and as a cumulation of the program with the gallery\, Charlie will be the featured artist for the July and August exhibit. Creativity knows no bounds with the artists current body of work\, combining his own life experiences\, experimentation with materials\, systematic racism\, and the playfulness of color\, Charlie is able to visually tell a story with a supremely unique and creative approach. In his own words; “Unquestioned intuition\, capitalism\, and the KKK have influenced my current work direction: queer\, kitsch American-nonsense.” FRANK is really proud of Charlie and excited that he will be staying around town to start his MFA program with UNC in the Fall. \nShowing for the first time at FRANK\, Susan Finer\, is a fiber and mixed media artist. Susan draws inspiration from …“ ancient craft 20th century masters of painting\, sculpture\, illustration\, textiles\, and music; and textures found in nature.” Combining fabric pieced and stitched together\, both hand and machine stitched\, Susan creates elegant abstract fiber works mixing purposeful and organic stitchery in a muted color palette often with pops of color. \nAlso exhibiting for the first time at FRANK is ceramic artist Rosalie Midyette. Drawing directly from her background of growing up in North Carolina and being inspired by a childhood spent playing in creeks and the woods\, Rosalie’s sculptures are organically shaped with lustruous\, pearly mica finished. Rosalie’s sense of tranquility and calmness when creating each piece comes through when viewing her work\, each with a sensuous finish and rounded form evokes feelings of her life experiences. \nA favorite artist during the last holiday show\, Theresa Pastoriza-Tan will be a featured artist for the first time at FRANK for this July/August exhibit. A member of the Durham Art Guild\, Theresa’s mixed media work is as much about the end result as the process itself. Ethereal abstract landscape’s with a luscious color palate often dabbed with bits of gold and bright colors and using a variety of materials all lead to a beautiful\, dreamy work of art. \nWe hope that you can visit this exceptional exhibit when it will be up from July 9th-September 5th. We will be practicing safety and health precautions in the gallery and in doing so will not be having an opening reception nor in-gallery artist talks.
URL:https://www.frankisart.com/event/featured-artists-exhibit-for-july-august-2020/
LOCATION:NC
CATEGORIES:Exhibit
ATTACH;FMTTYPE=image/jpeg:https://www.frankisart.com/wp-content/uploads/2023/08/IMG_5485.jpg
END:VEVENT
BEGIN:VEVENT
DTSTART;TZID=America/New_York:20200908T000000
DTEND;TZID=America/New_York:20201114T000000
DTSTAMP:20260424T115429
CREATED:20230808T182911Z
LAST-MODIFIED:20230808T182912Z
UID:3925-1599523200-1605312000@www.frankisart.com
SUMMARY:Featured Artists Exhibit for September/October 2020
DESCRIPTION:Featuring: Peg Bachenheimer\, Lew Graham\, Paul Hrusovsky\, Ronan Peterson \nSEPTEMBER 8TH-NOVEMBER 14TH \nStarting on September 8th\, FRANK Gallery will be displaying a beautifully curated exhibit featuring the paintings of FRANK member artist\, Peg Bachenheimer\, mixed media of Lew Graham\, painting/mixed media of Paul Hrusovsky\, and the ceramics of Ronan Peterson. \nPeg Bachenheimer’s newest paintings are oil and cold wax medium as well as acrylic on canvas. With an impressionist quality with a pleasing and soft color palette Peg’s graceful and beautiful paintings are light filled\, glowing abstracts and abstract landscapes. Perfecting her use of her medium\, Peg is able to create a textural surface with depth that highlights her choice of colors. \nWorking with the encaustic medium on birch panels\, Lew Graham’s latest work in the gallery is a highly luminescent and tranquil journey for its viewer. “Deepen” is a series of mixed media pieces made by combining many layers and working with a neutral color palette; pops of colors shine through ever so delicately but oh so alluring. \nPaul Hrusovsky’s current body of work is a nod to “childhood memories of play\, ceremony\, and reflection.” Working with metallic and mixed-media materials on canvas\, his latest work is inspired by objects and textures from the natural world. With a rich and lush color palette and working with layers of color that are “stenciled\, painted\, layered and taken away\,” Paul’s work is not only captivating with colorful metallic nuances and layers but there is a beautiful depth to his paintings from his layering technique. \nCreating his own quintessential style that is both whimsical and highly sophisticated\, Ronan Peterson’s ceramics are very sought-after and shown across the country. Using red earthenware clay\, Ronan’s work though artistic and creative\, are functional sculptures for every day use. Drawing inspiration from\, “processes of growth and decay in the natural world and translated into a ceramic comic book interpretation of both real and imagined phenomena.” Every piece of Ronan’s ceramics are a combination of textures\, colors\, and patterns making each piece bewitching and one of a kind. \nWe hope that you can stop in to see this incredible exhibit when we open from on Tuesday\, September 8th and visit the gallery with our hours of operation from Tuesday-Saturday from 12-5pm. If you would prefer to visit the gallery by appointment please contact our gallery manager\, Natalie Knox at info@frankisart.com to schedule.
URL:https://www.frankisart.com/event/featured-artists-exhibit-for-september-october-2020/
LOCATION:NC
CATEGORIES:Exhibit
ATTACH;FMTTYPE=image/jpeg:https://www.frankisart.com/wp-content/uploads/2023/08/2020showcardfront_crop.jpg
END:VEVENT
END:VCALENDAR