BEGIN:VCALENDAR
VERSION:2.0
PRODID:-//FRANK Gallery - ECPv6.15.20//NONSGML v1.0//EN
CALSCALE:GREGORIAN
METHOD:PUBLISH
X-WR-CALNAME:FRANK Gallery
X-ORIGINAL-URL:https://www.frankisart.com
X-WR-CALDESC:Events for FRANK Gallery
REFRESH-INTERVAL;VALUE=DURATION:PT1H
X-Robots-Tag:noindex
X-PUBLISHED-TTL:PT1H
BEGIN:VTIMEZONE
TZID:America/New_York
BEGIN:DAYLIGHT
TZOFFSETFROM:-0500
TZOFFSETTO:-0400
TZNAME:EDT
DTSTART:20190310T070000
END:DAYLIGHT
BEGIN:STANDARD
TZOFFSETFROM:-0400
TZOFFSETTO:-0500
TZNAME:EST
DTSTART:20191103T060000
END:STANDARD
BEGIN:DAYLIGHT
TZOFFSETFROM:-0500
TZOFFSETTO:-0400
TZNAME:EDT
DTSTART:20200308T070000
END:DAYLIGHT
BEGIN:STANDARD
TZOFFSETFROM:-0400
TZOFFSETTO:-0500
TZNAME:EST
DTSTART:20201101T060000
END:STANDARD
BEGIN:DAYLIGHT
TZOFFSETFROM:-0500
TZOFFSETTO:-0400
TZNAME:EDT
DTSTART:20210314T070000
END:DAYLIGHT
BEGIN:STANDARD
TZOFFSETFROM:-0400
TZOFFSETTO:-0500
TZNAME:EST
DTSTART:20211107T060000
END:STANDARD
END:VTIMEZONE
BEGIN:VEVENT
DTSTART;TZID=America/New_York:20200107T000000
DTEND;TZID=America/New_York:20200307T000000
DTSTAMP:20260424T221630
CREATED:20230808T182732Z
LAST-MODIFIED:20230808T182734Z
UID:3928-1578355200-1583539200@www.frankisart.com
SUMMARY:Featured Artists Exhibit for January/February 2020
DESCRIPTION:Featuring Shelly Hehenberger\, Luna Lee Ray\, and R.J. Dobs  \nJANUARY 7TH-MARCH 7THOPENING RECEPTION: FRIDAY\, JANUARY 10TH 6-8PMARTIST TALK: FRIDAY\, FEBRUARY 7TH 6-8PM \nWe are starting 2020 with a new exhibit! Featuring the work of member and mixed media artists Shelly Hehenberger and Luna Lee Ray as well as the work of guest sculptor\, R.J.Dobs. Inspired by nature\, all three of the featured artists have a unique interpretation on how they see the living world that surrounds us. \nWorking with a mixed media technique of building many layers of sheer and semi-opaque colors and direct printing with handmade stamps and free drawing\, Luna encapsulates a nuanced and ethereal approach to her interpretation of “the interplay of air\, water\, and light\, trying to capture a sense of the intangible: sunshine and mist in an abstract way.” With a delicate color palette that is injected with a spark of brightness\, the viewer is easily transfixed and transported into a dreamlike state. \nTypically and expertly working with cold wax medium\, Shelly Hehenberger is able to create highly textural surface with layers and layers of cold wax. When looking at Shelly’s work it is astonishing to see the command\, artistray\, and perfection she has over her chosen media in depicting her interpretation of the natural world. In Shelly’s most recent art\, she’s been working with mixed media on paper. Using the more dynamic and porous 100% cotton rag paper rather than using conventional wood pulp paper\, Shelly was able to experiment with all kinds of different items from frozen blueberries to coffee to more typical artistic materials in order to achieve the incredibly spectacular results of mixed media work.Being a featured artist in a FRANK exhibit for the first time\, we are thrilled to showcase the beautiful sculptures of RJ Dobs. Evoking the spirit of the earth and nature\, RJ carves and grinds into sandstone\, granite\, and found stones to create pieces with “non-symmetry that have inherent balance.” With a feeling that the stone sculptures are picked straight from the earth\, RJ combines his creativity and artistry to the organic pieces for a beautiful collection of work. \nPlease join us to see this beautiful exhibit which will run from January 7th to March 7th. The opening reception will be Friday\, January 10th from 6-8pm and the artist talk will be Friday\, February 7th from 6-8pm. Light refreshments will be provided and event is free.
URL:https://www.frankisart.com/event/featured-artists-exhibit-for-january-february-2020/
LOCATION:NC
CATEGORIES:Exhibit
ATTACH;FMTTYPE=image/jpeg:https://www.frankisart.com/wp-content/uploads/2023/08/Jan-Feb-Showcard-Front-Crop-1.jpg
END:VEVENT
BEGIN:VEVENT
DTSTART;TZID=America/New_York:20200310T000000
DTEND;TZID=America/New_York:20200628T000000
DTSTAMP:20260424T221630
CREATED:20230808T182403Z
LAST-MODIFIED:20230808T182405Z
UID:3927-1583798400-1593302400@www.frankisart.com
SUMMARY:Featured Artists Exhibit for March/June 2020
DESCRIPTION:Featuring Carroll Lassiter\, Nerys Levy\, and John Parkinson  \nMARCH 10TH-JUNE 28TH \nPlease join us on March 10th for the newest exhibit at FRANK featuring member artists and painters\, Carroll Lassiter and Nerys Levy and guest artist furniture maker John Parkinson. Carroll and Nerys spend a lot of time working in “plein air\,” or painting outside. Though each artist approaches their techniques differently they are able to capture their natural subjects with beautiful results. For the first time showing at FRANK\, the gallery is excited to have the exquisite work of John Parkinson. \nA longtime member of FRANK\, Welsh native\, Nerys Levy is no stranger to travel and has found herself painting all over the world. “I work on site in mixed media watercolor documenting the planet’s diverse landscapes–ancient forms\, animals\, Polar Regions\, Welsh Mountains\, Italian cityscapes\, North Carolina\, and the like\,” says the artist. The March/April exhibit will be no different in that respect but the subject matter will encompass her more recent trip to Jamaica. Revisiting her time in the British organization Voluntary Service Overseas\, Nerys captures the ethereal beauty of the scenery of Jamaica with her distinctive\, graphic quality mixed with the saturated earthly colors of the beach. She has also worked extensively in Italy and this exhibit features interiors of many of Italian churches. \nFRANK member\, Carroll Lassiter grew up in Edenton\, which continually inspires her paintings of North Carolina’s scenery. There is something so familiar about her paintings\, each transporting you to the place that she is capturing with her brush. The familiar solitude of an empty barn we see as we drive by\, a a memory of a lush landscape of a wild field\, the ordinary scene of a road made extraordinary by the feeling and exactness Carroll paints. With her signature welded steel\, polished frames\, Carroll is able to add a stunning finish to her enchanting landscapes. \nSpecializing in functional furniture with “clean elegant lines\, incorporating quiet details and accents to enhance visual vitality” John Parkinson will be showcasing his work at FRANK for the first time. Originally from England\, John’s love of woodworking started from a very young age being taught by his father. After honing his skills and starting his business\, John Parkinson Furniture\, John has gone on to have his work recognized by magazines\, national art shows and of course gracefully adorne the homes of his clients. We are thrilled to have his beautiful work in our gallery and hope you can stop in to see it. Click on the link below to see more of John’s work and visit his website. \nPlease consider attending one of the events surrounding this incredible exhibit. The show will run from March 10th-May 2nd\, the opening reception originally scheduled for Friday\, March 13th has been postponed. The artist talk is still currently scheduled for Friday\, April 10th from 6-8pm but we will inform you of any changes. Light refreshments will be provided and event is free.
URL:https://www.frankisart.com/event/featured-artists-exhibit-for-march-june-2020/
LOCATION:NC
CATEGORIES:Exhibit
ATTACH;FMTTYPE=image/jpeg:https://www.frankisart.com/wp-content/uploads/2023/08/DwellingintheLight300dpi.jpg
END:VEVENT
END:VCALENDAR