BEGIN:VCALENDAR
VERSION:2.0
PRODID:-//FRANK Gallery - ECPv6.15.20//NONSGML v1.0//EN
CALSCALE:GREGORIAN
METHOD:PUBLISH
X-WR-CALNAME:FRANK Gallery
X-ORIGINAL-URL:https://www.frankisart.com
X-WR-CALDESC:Events for FRANK Gallery
REFRESH-INTERVAL;VALUE=DURATION:PT1H
X-Robots-Tag:noindex
X-PUBLISHED-TTL:PT1H
BEGIN:VTIMEZONE
TZID:America/New_York
BEGIN:DAYLIGHT
TZOFFSETFROM:-0500
TZOFFSETTO:-0400
TZNAME:EDT
DTSTART:20130310T070000
END:DAYLIGHT
BEGIN:STANDARD
TZOFFSETFROM:-0400
TZOFFSETTO:-0500
TZNAME:EST
DTSTART:20131103T060000
END:STANDARD
BEGIN:DAYLIGHT
TZOFFSETFROM:-0500
TZOFFSETTO:-0400
TZNAME:EDT
DTSTART:20140309T070000
END:DAYLIGHT
BEGIN:STANDARD
TZOFFSETFROM:-0400
TZOFFSETTO:-0500
TZNAME:EST
DTSTART:20141102T060000
END:STANDARD
BEGIN:DAYLIGHT
TZOFFSETFROM:-0500
TZOFFSETTO:-0400
TZNAME:EDT
DTSTART:20150308T070000
END:DAYLIGHT
BEGIN:STANDARD
TZOFFSETFROM:-0400
TZOFFSETTO:-0500
TZNAME:EST
DTSTART:20151101T060000
END:STANDARD
BEGIN:DAYLIGHT
TZOFFSETFROM:-0500
TZOFFSETTO:-0400
TZNAME:EDT
DTSTART:20160313T070000
END:DAYLIGHT
BEGIN:STANDARD
TZOFFSETFROM:-0400
TZOFFSETTO:-0500
TZNAME:EST
DTSTART:20161106T060000
END:STANDARD
END:VTIMEZONE
BEGIN:VEVENT
DTSTART;TZID=America/New_York:20150418T180000
DTEND;TZID=America/New_York:20150418T210000
DTSTAMP:20260419T160049
CREATED:20230808T175834Z
LAST-MODIFIED:20230808T175836Z
UID:3948-1429380000-1429390800@www.frankisart.com
SUMMARY:2015 Off the Wall Gala Fundraiser
DESCRIPTION:Our 5th Annual Gala Celebration has of three exciting partsThe OFF THE WALL drawing\, a live art auction\, and an end-of-evening special prize drawing.  Only Art Ticket holders participate in the OFF THE WALL drawing.\nFRANK artists and many other well-known area artists have donated works of art for the OFF THE WALL drawing\, each valued at more than $350 to $3\,000.   During this lively drawing our host will randomly draw names from the Art Ticket holders list. As each name is called the lucky individual selects a piece of his or her choosing to take home.\nThe live art auction features five exceptional pieces and everyone can participate in the bidding. In addition\, everyone is entered into our end-of-the-evening drawing for a special prize.\nAll attendees enjoy free signature and traditional drinks and plenty of delicious food prepared by talented local chefs.  Dress for the evening is artfully festive\, but not black-tie formal.
URL:https://www.frankisart.com/event/2015-off-the-wall-gala-fundraiser/
CATEGORIES:Event
ATTACH;FMTTYPE=image/png:https://www.frankisart.com/wp-content/uploads/2023/08/2015-off-the-wall-gala.png
END:VEVENT
BEGIN:VEVENT
DTSTART;TZID=America/New_York:20140718T190000
DTEND;TZID=America/New_York:20140718T220000
DTSTAMP:20260419T160049
CREATED:20230808T175943Z
LAST-MODIFIED:20230808T175944Z
UID:3949-1405710000-1405720800@www.frankisart.com
SUMMARY:Bending Sticks
DESCRIPTION:You are invited to… An evening of film and discussionwith one of the Triangle’s most celebrated sculptors:Patrick Dougherty \nFriday July 18\, 7pm:\n “Bending Sticks: Sculptures of Patrick Dougherty”\nat\nTHE VARSITY THEATER\n(doors will open at 6:30)\nfollowed by a  reception at FRANK Gallery until 10pm\nTickets are $30 and can be purchased at FRANK until 6:00PM or at the Varsity beginning at 6:30PM.\n “Bending Sticks; an evening with Patrich Dougherty” on Friday July 18th . This event will include the screening of the film “Bending Sticks” which  highlights the work of environmental artist Patrick Dougherty’s extraordinary and monumental scale works built with live saplings.The film will be shown at the Varsity Theater at 7:00pm followed by a reception at FRANK Gallery at which the artist will be present. Tickets are $30 and space is limited.\nMore information about the documentary at:  http://bendingsticksthefilm.com/
URL:https://www.frankisart.com/event/bending-sticks/
CATEGORIES:Event
ATTACH;FMTTYPE=image/jpeg:https://www.frankisart.com/wp-content/uploads/2023/08/Untitled.jpg
END:VEVENT
BEGIN:VEVENT
DTSTART;TZID=America/New_York:20140412T180000
DTEND;TZID=America/New_York:20140412T210000
DTSTAMP:20260419T160049
CREATED:20230808T175629Z
LAST-MODIFIED:20230808T175631Z
UID:3950-1397325600-1397336400@www.frankisart.com
SUMMARY:2014 Off the Wall Gala Fundraiser
DESCRIPTION:FRANK’S SIGNATURE FUNDRAISING EVENT BRINGS YOU EXCITEMENT\, A SPECTACULAR SELECTION OF ART\, AND COMMUNITY ROOTS. JOIN US IN OUR 4TH GALA\, AS WE SUPPORT THE FRANK GALLERY’S MISSION TO ENRICH OUR COMMUNITY THROUGH ART.
URL:https://www.frankisart.com/event/2014-off-the-wall-gala-fundraiser/
CATEGORIES:Event
ATTACH;FMTTYPE=image/jpeg:https://www.frankisart.com/wp-content/uploads/2023/08/gala-2014-banner.jpg
END:VEVENT
END:VCALENDAR