BEGIN:VCALENDAR
VERSION:2.0
PRODID:-//FRANK Gallery - ECPv6.15.20//NONSGML v1.0//EN
CALSCALE:GREGORIAN
METHOD:PUBLISH
X-ORIGINAL-URL:https://www.frankisart.com
X-WR-CALDESC:Events for FRANK Gallery
REFRESH-INTERVAL;VALUE=DURATION:PT1H
X-Robots-Tag:noindex
X-PUBLISHED-TTL:PT1H
BEGIN:VTIMEZONE
TZID:America/New_York
BEGIN:DAYLIGHT
TZOFFSETFROM:-0500
TZOFFSETTO:-0400
TZNAME:EDT
DTSTART:20240310T070000
END:DAYLIGHT
BEGIN:STANDARD
TZOFFSETFROM:-0400
TZOFFSETTO:-0500
TZNAME:EST
DTSTART:20241103T060000
END:STANDARD
BEGIN:DAYLIGHT
TZOFFSETFROM:-0500
TZOFFSETTO:-0400
TZNAME:EDT
DTSTART:20250309T070000
END:DAYLIGHT
BEGIN:STANDARD
TZOFFSETFROM:-0400
TZOFFSETTO:-0500
TZNAME:EST
DTSTART:20251102T060000
END:STANDARD
BEGIN:DAYLIGHT
TZOFFSETFROM:-0500
TZOFFSETTO:-0400
TZNAME:EDT
DTSTART:20260308T070000
END:DAYLIGHT
BEGIN:STANDARD
TZOFFSETFROM:-0400
TZOFFSETTO:-0500
TZNAME:EST
DTSTART:20261101T060000
END:STANDARD
BEGIN:DAYLIGHT
TZOFFSETFROM:-0500
TZOFFSETTO:-0400
TZNAME:EDT
DTSTART:20270314T070000
END:DAYLIGHT
BEGIN:STANDARD
TZOFFSETFROM:-0400
TZOFFSETTO:-0500
TZNAME:EST
DTSTART:20271107T060000
END:STANDARD
END:VTIMEZONE
BEGIN:VEVENT
DTSTART;TZID=America/New_York:20251010T180000
DTEND;TZID=America/New_York:20251010T210000
DTSTAMP:20260420T030619
CREATED:20250329T155424Z
LAST-MODIFIED:20251011T191306Z
UID:26147-1760119200-1760130000@www.frankisart.com
SUMMARY:Opening Reception
DESCRIPTION:Experience an evening where art and ambiance come together at our Oct/Nov exhibit opening reception! Enjoy complimentary wine and cheese as you explore a stunning collection of artwork and meet the brilliant featured artists Barbara Tyroler\, Donna Stubbs and Tama Hochbaum. Engage in conversation\, get inspired\, and celebrate creativity in a lively and welcoming atmosphere. \n\n\n\nThis is your exclusive chance to be among the first to view the exhibition and immerse yourself in a world of artistic expression. Mark your calendar and join us for a night to remember!
URL:https://www.frankisart.com/event/opening-reception-13/
LOCATION:FRANK Gallery\, 370 E. Main St #130\, Carrboro\, NC\, 27510\, United States
CATEGORIES:Opening
ATTACH;FMTTYPE=image/jpeg:https://www.frankisart.com/wp-content/uploads/2025/03/reception-Promo.jpg
END:VEVENT
BEGIN:VEVENT
DTSTART;TZID=America/New_York:20251112T170000
DTEND;TZID=America/New_York:20251112T190000
DTSTAMP:20260420T030619
CREATED:20250825T232540Z
LAST-MODIFIED:20251113T151514Z
UID:29953-1762966800-1762974000@www.frankisart.com
SUMMARY:EXCLUSIVE - Friends of FRANK Holiday Show Preview Cocktail Party
DESCRIPTION:EXCLUSIVE Event For Friends of FRANK Members \n\n\n\n\n\n\n\nCelebrate the season in style at our exclusive Friends of FRANK Holiday Cocktail Party! Get first pick from hundreds of unique\, handcrafted gifts in our Holiday Exhibit\, and meet the talented artists behind them. This festive evening is the perfect way to wrap up the year—shop\, connect\, and soak in the joy of art. \n\n\n\nNot yet a member? Join Friends of FRANK today and make this holiday bash part of your annual tradition!
URL:https://www.frankisart.com/event/exclusive-friends-of-frank-holiday-show-preview-cocktail-party/
LOCATION:FRANK Gallery\, 370 E. Main St #130\, Carrboro\, NC\, 27510\, United States
CATEGORIES:Opening
ATTACH;FMTTYPE=image/jpeg:https://www.frankisart.com/wp-content/uploads/2025/08/WinterShow-FoF-Exclusive.jpg
END:VEVENT
BEGIN:VEVENT
DTSTART;TZID=America/New_York:20251114T180000
DTEND;TZID=America/New_York:20251114T210000
DTSTAMP:20260420T030619
CREATED:20250329T155522Z
LAST-MODIFIED:20251115T161147Z
UID:26201-1763143200-1763154000@www.frankisart.com
SUMMARY:Holiday Opening Reception
DESCRIPTION:Meet the Holiday Exhibit artists and enjoy wine and cheese as you browse through hundreds of unique gift possibilities.
URL:https://www.frankisart.com/event/holiday-opening-reception-2/
LOCATION:FRANK Gallery\, 370 E. Main St #130\, Carrboro\, NC\, 27510\, United States
CATEGORIES:Opening
ATTACH;FMTTYPE=image/jpeg:https://www.frankisart.com/wp-content/uploads/2025/03/winter-show-25-promo.jpg
END:VEVENT
BEGIN:VEVENT
DTSTART;TZID=America/New_York:20260227T180000
DTEND;TZID=America/New_York:20260227T210000
DTSTAMP:20260420T030619
CREATED:20251225T203511Z
LAST-MODIFIED:20260228T173627Z
UID:34583-1772215200-1772226000@www.frankisart.com
SUMMARY:Opening Reception
DESCRIPTION:Enjoy excellent regional art at our February-April exhibit opening reception! Enjoy complimentary wine and cheese as you explore a stunning collection of artwork by featured artists Luna Lee Ray and Gordon Jameson\, and guest artist Ronan Peterson. Engage in conversation with the artists\, get inspired\, and celebrate creativity in a lively and welcoming atmosphere.
URL:https://www.frankisart.com/event/opening-reception-15/
LOCATION:FRANK Gallery\, 370 E. Main St #130\, Carrboro\, NC\, 27510\, United States
CATEGORIES:Event,Opening
ATTACH;FMTTYPE=image/jpeg:https://www.frankisart.com/wp-content/uploads/2025/12/The-Gentle-Rain-cropped-Copy.jpeg
END:VEVENT
BEGIN:VEVENT
DTSTART;TZID=America/New_York:20260410T180000
DTEND;TZID=America/New_York:20260410T210000
DTSTAMP:20260420T030619
CREATED:20251101T194239Z
LAST-MODIFIED:20260411T032750Z
UID:34586-1775844000-1775854800@www.frankisart.com
SUMMARY:Opening Reception
DESCRIPTION:Explore excellent regional art at our April-May exhibit opening reception! \n\n\n\nEnjoy complimentary wine and cheese as you browse a stunning collection of artwork by member artists Amy Deystone\, Susan Finer\, and Susan Paulsen\, as well as guest artists Jane Filer\, Selden Lamoureux\, and Gadisse Lee. Engage in conversation with the artists\, get inspired\, and celebrate creativity in a lively and welcoming atmosphere.
URL:https://www.frankisart.com/event/opening-reception-april-may/
LOCATION:FRANK Gallery\, 370 E. Main St #130\, Carrboro\, NC\, 27510\, United States
CATEGORIES:Event,Opening
ATTACH;FMTTYPE=image/jpeg:https://www.frankisart.com/wp-content/uploads/2025/12/apples-and-sifter-cropped.jpg
END:VEVENT
BEGIN:VEVENT
DTSTART;TZID=America/New_York:20260522T180000
DTEND;TZID=America/New_York:20260522T210000
DTSTAMP:20260420T030619
CREATED:20260228T182051Z
LAST-MODIFIED:20260228T182054Z
UID:36006-1779472800-1779483600@www.frankisart.com
SUMMARY:Opening Reception
DESCRIPTION:Explore excellent regional art at our May-June exhibit opening reception! \n\n\n\nEnjoy complimentary wine and cheese as you browse a stunning collection of artwork by member artists Peg Bachenheimer\, Elijah Kell\, and Carol Retsch-Bogart\, as well as guest artists Sasha Bakaric and Clarke Munford. Engage in conversation with the artists\, get inspired\, and celebrate creativity in a lively and welcoming atmosphere.
URL:https://www.frankisart.com/event/opening-reception-may-june/
LOCATION:FRANK Gallery\, 370 E. Main St #130\, Carrboro\, NC\, 27510\, United States
CATEGORIES:Event,Opening
ATTACH;FMTTYPE=image/jpeg:https://www.frankisart.com/wp-content/uploads/2026/02/Elijah-cropped.jpg
END:VEVENT
BEGIN:VEVENT
DTSTART;TZID=America/New_York:20260710T180000
DTEND;TZID=America/New_York:20260710T210000
DTSTAMP:20260420T030619
CREATED:20260228T183705Z
LAST-MODIFIED:20260228T183708Z
UID:36010-1783706400-1783717200@www.frankisart.com
SUMMARY:Opening Reception
DESCRIPTION:Explore excellent regional art at the opening reception for our June-August exhibit and Second Annual Scapes Show! \n\n\n\nEnjoy complimentary wine and cheese as you browse a stunning collection of artwork by member artists Natalie Boorman and Nerys Levy\, as well as FRANK Emerging Artist Lah Boh. Engage in conversation with the artists\, get inspired\, and celebrate creativity in a lively and welcoming atmosphere.
URL:https://www.frankisart.com/event/opening-reception-june-august-exhibit/
LOCATION:FRANK Gallery\, 370 E. Main St #130\, Carrboro\, NC\, 27510\, United States
CATEGORIES:Event,Opening
ATTACH;FMTTYPE=image/jpeg:https://www.frankisart.com/wp-content/uploads/2026/02/NB-cropped.jpeg
END:VEVENT
BEGIN:VEVENT
DTSTART;TZID=America/New_York:20260821T180000
DTEND;TZID=America/New_York:20260821T210000
DTSTAMP:20260420T030619
CREATED:20260228T184421Z
LAST-MODIFIED:20260228T184424Z
UID:36014-1787335200-1787346000@www.frankisart.com
SUMMARY:Opening Reception
DESCRIPTION:Explore excellent regional art at our August-September exhibit opening reception! \n\n\n\nEnjoy complimentary wine and cheese as you browse a stunning collection of artwork by member artist R. Scott Horner\, FRANK Emerging Artist Julia Nagle\, and guest artists Ivana Beck and Pat Saling. Engage in conversation with the artists\, get inspired\, and celebrate creativity in a lively and welcoming atmosphere.
URL:https://www.frankisart.com/event/opening-reception-august-september/
LOCATION:FRANK Gallery\, 370 E. Main St #130\, Carrboro\, NC\, 27510\, United States
CATEGORIES:Event,Opening
ATTACH;FMTTYPE=image/jpeg:https://www.frankisart.com/wp-content/uploads/2026/02/Nagle_Deep-Surface_cropped.jpg
END:VEVENT
BEGIN:VEVENT
DTSTART;TZID=America/New_York:20261009T180000
DTEND;TZID=America/New_York:20261009T210000
DTSTAMP:20260420T030619
CREATED:20260228T185451Z
LAST-MODIFIED:20260228T185455Z
UID:36017-1791568800-1791579600@www.frankisart.com
SUMMARY:Opening Reception
DESCRIPTION:Explore excellent regional art at our September-November exhibit opening reception! \n\n\n\nEnjoy complimentary wine and cheese as you browse a stunning collection of artwork by member artists Keith Allen\, Shelly Hehenberger\, Mary Lee Kerr\, and Donna Stubbs. Engage in conversation with the artists\, get inspired\, and celebrate creativity in a lively and welcoming atmosphere.
URL:https://www.frankisart.com/event/opening-reception-september-november/
LOCATION:FRANK Gallery\, 370 E. Main St #130\, Carrboro\, NC\, 27510\, United States
CATEGORIES:Event,Opening
ATTACH;FMTTYPE=image/jpeg:https://www.frankisart.com/wp-content/uploads/2026/02/donna-cropped.jpg
END:VEVENT
BEGIN:VEVENT
DTSTART;TZID=America/New_York:20261120T180000
DTEND;TZID=America/New_York:20261120T210000
DTSTAMP:20260420T030619
CREATED:20260228T190305Z
LAST-MODIFIED:20260228T190310Z
UID:36020-1795197600-1795208400@www.frankisart.com
SUMMARY:Holiday Opening Reception
DESCRIPTION:Meet the artists of the 2026 Holiday Group Show and enjoy wine and cheese as you browse through hundreds of unique gift possibilities.
URL:https://www.frankisart.com/event/holiday-opening-reception-2026/
LOCATION:FRANK Gallery\, 370 E. Main St #130\, Carrboro\, NC\, 27510\, United States
CATEGORIES:Opening
ATTACH;FMTTYPE=image/jpeg:https://www.frankisart.com/wp-content/uploads/2026/02/Mary-lee-cropped.jpg
END:VEVENT
END:VCALENDAR