BEGIN:VCALENDAR
VERSION:2.0
PRODID:-//FRANK Gallery - ECPv6.15.20//NONSGML v1.0//EN
CALSCALE:GREGORIAN
METHOD:PUBLISH
X-ORIGINAL-URL:https://www.frankisart.com
X-WR-CALDESC:Events for FRANK Gallery
REFRESH-INTERVAL;VALUE=DURATION:PT1H
X-Robots-Tag:noindex
X-PUBLISHED-TTL:PT1H
BEGIN:VTIMEZONE
TZID:America/New_York
BEGIN:DAYLIGHT
TZOFFSETFROM:-0500
TZOFFSETTO:-0400
TZNAME:EDT
DTSTART:20210314T070000
END:DAYLIGHT
BEGIN:STANDARD
TZOFFSETFROM:-0400
TZOFFSETTO:-0500
TZNAME:EST
DTSTART:20211107T060000
END:STANDARD
BEGIN:DAYLIGHT
TZOFFSETFROM:-0500
TZOFFSETTO:-0400
TZNAME:EDT
DTSTART:20220313T070000
END:DAYLIGHT
BEGIN:STANDARD
TZOFFSETFROM:-0400
TZOFFSETTO:-0500
TZNAME:EST
DTSTART:20221106T060000
END:STANDARD
BEGIN:DAYLIGHT
TZOFFSETFROM:-0500
TZOFFSETTO:-0400
TZNAME:EDT
DTSTART:20230312T070000
END:DAYLIGHT
BEGIN:STANDARD
TZOFFSETFROM:-0400
TZOFFSETTO:-0500
TZNAME:EST
DTSTART:20231105T060000
END:STANDARD
END:VTIMEZONE
BEGIN:VEVENT
DTSTART;TZID=America/New_York:20220208T000000
DTEND;TZID=America/New_York:20220402T000000
DTSTAMP:20260421T152648
CREATED:20230808T185650Z
LAST-MODIFIED:20230808T185652Z
UID:3908-1644278400-1648857600@www.frankisart.com
SUMMARY:Featured artists exhibit for February/March 2022
DESCRIPTION:Featuring Carol Retsch-Bogart\, Linda Prager\, Brent Arnold \, Pearl Arnold and Marilyn Palsha\nOPENING RECEPTION FEBRUARY 11TH FROM 5-7PM\nWe close out winter with this exhibit featuring member artists Carol Retsch-Bogart and Linda Prager\, and guest artists Brent Arnold\, Pearl Arnold and Marilyn Palsha. Join us at the gallery for the opening reception on February 11. \nCarol Retsch-Bogart\nMember artist\, Carol Retsch-Bogart is a highly skilled mixed media artist\, constantly challenging herself and how she approaches her medium. Melding her past experiences as a psychotherapist with being an artist further enhances her work and amplifies her ability to tell a story through textures and layers. \n  \n\n\n\n\n\n\n\n\nLinda Prager\n\n\n\nA multi-talented artist and member of the gallery\, Linda Prager will have her newest ceramic pieces featured. These hand-built and textured pieces have a beautiful\, graphic quality. Using all sorts of methods and tools in order to create surface texture\, Linda creates dynamic functional pieces allowing the viewer “to touch\, to look more closely\, to explore.” \n\n\n\nMarilyn Palsha\n\n\n\nAfter decades of making pots\, Marilyn Palsha turned her focus to making figurative sculpture for the last ten years. These female figures express the challenges of aging\, illness\, facing fear\, finding courage and finding peace. It is her hope that viewers will see their own narratives. The work is fired twice and designed to be enjoyed indoors. \n\n\n\nBrent Arnold\n\n\n\nAn encaustic artist with his first featured show at FRANK\, we are excited to have his pieces in this show. Brent creates a industrial vibe and rich luscious textures with his medium: \n\n\n\n“Encaustic feels like putting on a perfectly worn pair of shoes\, everything about it feels right.  All of my thoughts and intentions are enhanced by the medium.” \n\n\n\n“I realize now all of my work lies in-between two histories.  My intent is to freeze a conversation and let the negative space between be the experience.” \n\n\n\nPearl Arnold\n\n\n\nDesigner and artist\, Pearl Arnold is also featured for the first time in the upcoming exhibit. Working with a balance between structure and looseness\, in soft muted palettes\, Pearl draws her viewer in as they get lost in the wondery of her pieces.
URL:https://www.frankisart.com/event/featured-artists-exhibit-for-february-march-2022/
LOCATION:NC
CATEGORIES:Exhibit
ATTACH;FMTTYPE=image/jpeg:https://www.frankisart.com/wp-content/uploads/2023/08/thumbnail_IMG_67632.jpg
END:VEVENT
END:VCALENDAR