BEGIN:VCALENDAR
VERSION:2.0
PRODID:-//FRANK Gallery - ECPv6.15.20//NONSGML v1.0//EN
CALSCALE:GREGORIAN
METHOD:PUBLISH
X-ORIGINAL-URL:https://www.frankisart.com
X-WR-CALDESC:Events for FRANK Gallery
REFRESH-INTERVAL;VALUE=DURATION:PT1H
X-Robots-Tag:noindex
X-PUBLISHED-TTL:PT1H
BEGIN:VTIMEZONE
TZID:America/New_York
BEGIN:DAYLIGHT
TZOFFSETFROM:-0500
TZOFFSETTO:-0400
TZNAME:EDT
DTSTART:20220313T070000
END:DAYLIGHT
BEGIN:STANDARD
TZOFFSETFROM:-0400
TZOFFSETTO:-0500
TZNAME:EST
DTSTART:20221106T060000
END:STANDARD
BEGIN:DAYLIGHT
TZOFFSETFROM:-0500
TZOFFSETTO:-0400
TZNAME:EDT
DTSTART:20230312T070000
END:DAYLIGHT
BEGIN:STANDARD
TZOFFSETFROM:-0400
TZOFFSETTO:-0500
TZNAME:EST
DTSTART:20231105T060000
END:STANDARD
BEGIN:DAYLIGHT
TZOFFSETFROM:-0500
TZOFFSETTO:-0400
TZNAME:EDT
DTSTART:20240310T070000
END:DAYLIGHT
BEGIN:STANDARD
TZOFFSETFROM:-0400
TZOFFSETTO:-0500
TZNAME:EST
DTSTART:20241103T060000
END:STANDARD
END:VTIMEZONE
BEGIN:VEVENT
DTSTART;TZID=America/New_York:20230110T000000
DTEND;TZID=America/New_York:20230204T000000
DTSTAMP:20260420T180212
CREATED:20230808T192908Z
LAST-MODIFIED:20230808T195317Z
UID:3879-1673308800-1675468800@www.frankisart.com
SUMMARY:FRANK Invitational: Latinx Contemporary Art // FRANK Invita: Arte Contemporaneo Latinx
DESCRIPTION:This month\, FRANK celebrates the work of 10 Latinx artists from around the state.Marcela Slade \nNana AbreuFabrizio BianchiAdriana AmeighPeter MarinKaren RoseSamantha RosadoNatalia Torres del ValleGeorges Le ChevallierLuis Enrique Gutierrez \n 
URL:https://www.frankisart.com/event/frank-invitational-latinx-contemporary-art-frank-invita-arte-contemporaneo-latinx/
LOCATION:NC
CATEGORIES:Exhibit
ATTACH;FMTTYPE=image/jpeg:https://www.frankisart.com/wp-content/uploads/2023/08/thumbnail_image0.jpg
END:VEVENT
BEGIN:VEVENT
DTSTART;TZID=America/New_York:20230207T000000
DTEND;TZID=America/New_York:20230430T000000
DTSTAMP:20260420T180212
CREATED:20230808T193306Z
LAST-MODIFIED:20230808T200143Z
UID:3875-1675728000-1682812800@www.frankisart.com
SUMMARY:Members' Showcase Exhibit
DESCRIPTION:To celebrate our last weeks at University Place\, FRANK member artists are showing their work in a large group exhibit. Come see pieces by your favorite artists\, and ask us about our move to Carrboro.
URL:https://www.frankisart.com/event/members-showcase-exhibit/
LOCATION:NC
CATEGORIES:Exhibit
ATTACH;FMTTYPE=image/jpeg:https://www.frankisart.com/wp-content/uploads/2023/08/exhibit-promo-2-2023.jpg
END:VEVENT
END:VCALENDAR