BEGIN:VCALENDAR
VERSION:2.0
PRODID:-//FRANK Gallery - ECPv6.15.20//NONSGML v1.0//EN
CALSCALE:GREGORIAN
METHOD:PUBLISH
X-ORIGINAL-URL:https://www.frankisart.com
X-WR-CALDESC:Events for FRANK Gallery
REFRESH-INTERVAL;VALUE=DURATION:PT1H
X-Robots-Tag:noindex
X-PUBLISHED-TTL:PT1H
BEGIN:VTIMEZONE
TZID:America/New_York
BEGIN:DAYLIGHT
TZOFFSETFROM:-0500
TZOFFSETTO:-0400
TZNAME:EDT
DTSTART:20230312T070000
END:DAYLIGHT
BEGIN:STANDARD
TZOFFSETFROM:-0400
TZOFFSETTO:-0500
TZNAME:EST
DTSTART:20231105T060000
END:STANDARD
BEGIN:DAYLIGHT
TZOFFSETFROM:-0500
TZOFFSETTO:-0400
TZNAME:EDT
DTSTART:20240310T070000
END:DAYLIGHT
BEGIN:STANDARD
TZOFFSETFROM:-0400
TZOFFSETTO:-0500
TZNAME:EST
DTSTART:20241103T060000
END:STANDARD
BEGIN:DAYLIGHT
TZOFFSETFROM:-0500
TZOFFSETTO:-0400
TZNAME:EDT
DTSTART:20250309T070000
END:DAYLIGHT
BEGIN:STANDARD
TZOFFSETFROM:-0400
TZOFFSETTO:-0500
TZNAME:EST
DTSTART:20251102T060000
END:STANDARD
END:VTIMEZONE
BEGIN:VEVENT
DTSTART;TZID=America/New_York:20240823T180000
DTEND;TZID=America/New_York:20240823T210000
DTSTAMP:20260419T094227
CREATED:20240808T205136Z
LAST-MODIFIED:20240824T182924Z
UID:19287-1724436000-1724446800@www.frankisart.com
SUMMARY:Opening Reception
DESCRIPTION:Join us for the opening reception\, featuring artists R. Scott Horner\, Kaidy Lewis\, and guest artists John Parkinson and Fabrizio Bianchi. Celebrate the Small Works show\, showcasing many new and returning guest artists. Enjoy an evening of art and creativity\, and take the opportunity to meet the artists and mingle with fellow art enthusiasts. \n\n\n\n>> EXHIBIT INFO
URL:https://www.frankisart.com/event/opening-reception-6/
LOCATION:FRANK Gallery\, 370 E. Main St #130\, Carrboro\, NC\, 27510\, United States
CATEGORIES:Event,Opening
ATTACH;FMTTYPE=image/jpeg:https://www.frankisart.com/wp-content/uploads/2024/05/Aug-Sep24-show-16-9.jpg
END:VEVENT
END:VCALENDAR