BEGIN:VCALENDAR
VERSION:2.0
PRODID:-//FRANK Gallery - ECPv6.15.20//NONSGML v1.0//EN
CALSCALE:GREGORIAN
METHOD:PUBLISH
X-ORIGINAL-URL:https://www.frankisart.com
X-WR-CALDESC:Events for FRANK Gallery
REFRESH-INTERVAL;VALUE=DURATION:PT1H
X-Robots-Tag:noindex
X-PUBLISHED-TTL:PT1H
BEGIN:VTIMEZONE
TZID:America/New_York
BEGIN:DAYLIGHT
TZOFFSETFROM:-0500
TZOFFSETTO:-0400
TZNAME:EDT
DTSTART:20230312T070000
END:DAYLIGHT
BEGIN:STANDARD
TZOFFSETFROM:-0400
TZOFFSETTO:-0500
TZNAME:EST
DTSTART:20231105T060000
END:STANDARD
BEGIN:DAYLIGHT
TZOFFSETFROM:-0500
TZOFFSETTO:-0400
TZNAME:EDT
DTSTART:20240310T070000
END:DAYLIGHT
BEGIN:STANDARD
TZOFFSETFROM:-0400
TZOFFSETTO:-0500
TZNAME:EST
DTSTART:20241103T060000
END:STANDARD
BEGIN:DAYLIGHT
TZOFFSETFROM:-0500
TZOFFSETTO:-0400
TZNAME:EDT
DTSTART:20250309T070000
END:DAYLIGHT
BEGIN:STANDARD
TZOFFSETFROM:-0400
TZOFFSETTO:-0500
TZNAME:EST
DTSTART:20251102T060000
END:STANDARD
END:VTIMEZONE
BEGIN:VEVENT
DTSTART;TZID=America/New_York:20240822T130000
DTEND;TZID=America/New_York:20240822T140000
DTSTAMP:20260419T094226
CREATED:20240812T193319Z
LAST-MODIFIED:20240822T192654Z
UID:20547-1724331600-1724335200@www.frankisart.com
SUMMARY:John Rosenthal on Photography
DESCRIPTION:RESCHEDULED DATE August 22 from 1-2pm \n\n\n\nMEMBERS ONLY EVENT\n\n\n\n>> Become a Friends of FRANK member today \n\n\n\nAs an exclusive for Friends of FRANK members\, join us for an engaging talk by acclaimed photographer John Rosenthal\, who will delve into the fascinating world of photography beyond the images themselves. In this thought-provoking discussion\, John will explore the philosophical questions that underpin the act of capturing moments through the lens. With his profound insights and captivating storytelling\, John promises a lively and stimulating conversation that will challenge your perceptions and deepen your appreciation for the art of photography. Don’t miss this unique opportunity!
URL:https://www.frankisart.com/event/john-rosenthal-on-photography/
LOCATION:FRANK Gallery\, 370 E. Main St #130\, Carrboro\, NC\, 27510\, United States
CATEGORIES:Event
ATTACH;FMTTYPE=image/jpeg:https://www.frankisart.com/wp-content/uploads/2024/07/image-1.jpeg
END:VEVENT
END:VCALENDAR