BEGIN:VCALENDAR
VERSION:2.0
PRODID:-//FRANK Gallery - ECPv6.15.20//NONSGML v1.0//EN
CALSCALE:GREGORIAN
METHOD:PUBLISH
X-ORIGINAL-URL:https://www.frankisart.com
X-WR-CALDESC:Events for FRANK Gallery
REFRESH-INTERVAL;VALUE=DURATION:PT1H
X-Robots-Tag:noindex
X-PUBLISHED-TTL:PT1H
BEGIN:VTIMEZONE
TZID:America/New_York
BEGIN:DAYLIGHT
TZOFFSETFROM:-0500
TZOFFSETTO:-0400
TZNAME:EDT
DTSTART:20230312T070000
END:DAYLIGHT
BEGIN:STANDARD
TZOFFSETFROM:-0400
TZOFFSETTO:-0500
TZNAME:EST
DTSTART:20231105T060000
END:STANDARD
BEGIN:DAYLIGHT
TZOFFSETFROM:-0500
TZOFFSETTO:-0400
TZNAME:EDT
DTSTART:20240310T070000
END:DAYLIGHT
BEGIN:STANDARD
TZOFFSETFROM:-0400
TZOFFSETTO:-0500
TZNAME:EST
DTSTART:20241103T060000
END:STANDARD
BEGIN:DAYLIGHT
TZOFFSETFROM:-0500
TZOFFSETTO:-0400
TZNAME:EDT
DTSTART:20250309T070000
END:DAYLIGHT
BEGIN:STANDARD
TZOFFSETFROM:-0400
TZOFFSETTO:-0500
TZNAME:EST
DTSTART:20251102T060000
END:STANDARD
END:VTIMEZONE
BEGIN:VEVENT
DTSTART;TZID=America/New_York:20240809T180000
DTEND;TZID=America/New_York:20240809T210000
DTSTAMP:20260419T094241
CREATED:20240730T144105Z
LAST-MODIFIED:20240810T183729Z
UID:19448-1723226400-1723237200@www.frankisart.com
SUMMARY:Second Friday Art Walk
DESCRIPTION:EVENT CANCELED DUE TO WEATHER\n\n\n\nDrop into the gallery for our monthly Second Friday reception. We are celebrating the closing of our current exhibit featuring Donna Stubbs and her collaborative sculptures with Brent Arnold\, Theresa P-Tan and guest artists Sasha Bakaric and John Rosenthal.  \n\n\n\nThere is so much to see at FRANK\, and we are walking distance to several other participating galleries.
URL:https://www.frankisart.com/event/second-friday-art-walk-2/
LOCATION:FRANK Gallery\, 370 E. Main St #130\, Carrboro\, NC\, 27510\, United States
CATEGORIES:Event
ATTACH;FMTTYPE=image/jpeg:https://www.frankisart.com/wp-content/uploads/2024/05/SecondFriday-promo.jpg
END:VEVENT
END:VCALENDAR