BEGIN:VCALENDAR
VERSION:2.0
PRODID:-//FRANK Gallery - ECPv6.15.20//NONSGML v1.0//EN
CALSCALE:GREGORIAN
METHOD:PUBLISH
X-ORIGINAL-URL:https://www.frankisart.com
X-WR-CALDESC:Events for FRANK Gallery
REFRESH-INTERVAL;VALUE=DURATION:PT1H
X-Robots-Tag:noindex
X-PUBLISHED-TTL:PT1H
BEGIN:VTIMEZONE
TZID:America/New_York
BEGIN:DAYLIGHT
TZOFFSETFROM:-0500
TZOFFSETTO:-0400
TZNAME:EDT
DTSTART:20230312T070000
END:DAYLIGHT
BEGIN:STANDARD
TZOFFSETFROM:-0400
TZOFFSETTO:-0500
TZNAME:EST
DTSTART:20231105T060000
END:STANDARD
BEGIN:DAYLIGHT
TZOFFSETFROM:-0500
TZOFFSETTO:-0400
TZNAME:EDT
DTSTART:20240310T070000
END:DAYLIGHT
BEGIN:STANDARD
TZOFFSETFROM:-0400
TZOFFSETTO:-0500
TZNAME:EST
DTSTART:20241103T060000
END:STANDARD
BEGIN:DAYLIGHT
TZOFFSETFROM:-0500
TZOFFSETTO:-0400
TZNAME:EDT
DTSTART:20250309T070000
END:DAYLIGHT
BEGIN:STANDARD
TZOFFSETFROM:-0400
TZOFFSETTO:-0500
TZNAME:EST
DTSTART:20251102T060000
END:STANDARD
END:VTIMEZONE
BEGIN:VEVENT
DTSTART;TZID=America/New_York:20240505T140000
DTEND;TZID=America/New_York:20240505T150000
DTSTAMP:20260419T151159
CREATED:20240327T172857Z
LAST-MODIFIED:20240505T230750Z
UID:15300-1714917600-1714921200@www.frankisart.com
SUMMARY:Coffee with FRANK - with a twist!
DESCRIPTION:Our normally scheduled Coffee with FRANK is going to look a little different this month.  \n\n\n\nLet’s celebrate our Artists and Cinco de Mayo with an Artist Talk on Sunday\, May 5th from 2pm-3pm. Our featured artists\, members Carol Retsch-Bogart\, Linda Prager and Shelly Hehenberger will share their work\, techniques and inspiration\, while you enjoy drinks\, salsa and chips! 
URL:https://www.frankisart.com/event/coffee-with-frank-with-a-twist/
LOCATION:FRANK Gallery\, 370 E. Main St #130\, Carrboro\, NC\, 27510\, United States
CATEGORIES:Event
ATTACH;FMTTYPE=image/jpeg:https://www.frankisart.com/wp-content/uploads/2024/03/coffee-promoImage.jpg
END:VEVENT
END:VCALENDAR