BEGIN:VCALENDAR
VERSION:2.0
PRODID:-//FRANK Gallery - ECPv6.15.20//NONSGML v1.0//EN
CALSCALE:GREGORIAN
METHOD:PUBLISH
X-ORIGINAL-URL:https://www.frankisart.com
X-WR-CALDESC:Events for FRANK Gallery
REFRESH-INTERVAL;VALUE=DURATION:PT1H
X-Robots-Tag:noindex
X-PUBLISHED-TTL:PT1H
BEGIN:VTIMEZONE
TZID:America/New_York
BEGIN:DAYLIGHT
TZOFFSETFROM:-0500
TZOFFSETTO:-0400
TZNAME:EDT
DTSTART:20230312T070000
END:DAYLIGHT
BEGIN:STANDARD
TZOFFSETFROM:-0400
TZOFFSETTO:-0500
TZNAME:EST
DTSTART:20231105T060000
END:STANDARD
BEGIN:DAYLIGHT
TZOFFSETFROM:-0500
TZOFFSETTO:-0400
TZNAME:EDT
DTSTART:20240310T070000
END:DAYLIGHT
BEGIN:STANDARD
TZOFFSETFROM:-0400
TZOFFSETTO:-0500
TZNAME:EST
DTSTART:20241103T060000
END:STANDARD
BEGIN:DAYLIGHT
TZOFFSETFROM:-0500
TZOFFSETTO:-0400
TZNAME:EDT
DTSTART:20250309T070000
END:DAYLIGHT
BEGIN:STANDARD
TZOFFSETFROM:-0400
TZOFFSETTO:-0500
TZNAME:EST
DTSTART:20251102T060000
END:STANDARD
END:VTIMEZONE
BEGIN:VEVENT
DTSTART;TZID=America/New_York:20240208T180000
DTEND;TZID=America/New_York:20240208T193000
DTSTAMP:20260419T202307
CREATED:20240104T184317Z
LAST-MODIFIED:20240210T195117Z
UID:12582-1707415200-1707420600@www.frankisart.com
SUMMARY:Cheese\, Chocolate & Art
DESCRIPTION:Join us at FRANK Gallery for an exquisite evening where The Cheese Shop curates an unforgettable experience of flavors and artistry. Immerse yourself in the rich textures of art while indulging in an expertly selected array of fine cheeses. Delight in the harmonious fusion of taste and aesthetics as The Cheese Shop shares their expertise on exceptional cheeses and chocolates inspired by the art within the ambiance of our gallery. Don’t miss this unique opportunity to savor the symphony of flavors amid inspiring artworks. \n\n\n\n\n\n\n\n\n\n\n\n\n\n\nTickets for this FRANK Gallery event sold by The Cheese Shop
URL:https://www.frankisart.com/event/save-the-date-cheese-wine-art/
LOCATION:FRANK Gallery\, 370 E. Main St #130\, Carrboro\, NC\, 27510\, United States
CATEGORIES:Event
ATTACH;FMTTYPE=image/jpeg:https://www.frankisart.com/wp-content/uploads/2024/01/cheese-chocolate.jpg
ORGANIZER;CN="The Cheese Shop":MAILTO:hello@cheeseshopnc.com
END:VEVENT
END:VCALENDAR