BEGIN:VCALENDAR
VERSION:2.0
PRODID:-//FRANK Gallery - ECPv6.15.20//NONSGML v1.0//EN
CALSCALE:GREGORIAN
METHOD:PUBLISH
X-ORIGINAL-URL:https://www.frankisart.com
X-WR-CALDESC:Events for FRANK Gallery
REFRESH-INTERVAL;VALUE=DURATION:PT1H
X-Robots-Tag:noindex
X-PUBLISHED-TTL:PT1H
BEGIN:VTIMEZONE
TZID:America/New_York
BEGIN:DAYLIGHT
TZOFFSETFROM:-0500
TZOFFSETTO:-0400
TZNAME:EDT
DTSTART:20220313T070000
END:DAYLIGHT
BEGIN:STANDARD
TZOFFSETFROM:-0400
TZOFFSETTO:-0500
TZNAME:EST
DTSTART:20221106T060000
END:STANDARD
BEGIN:DAYLIGHT
TZOFFSETFROM:-0500
TZOFFSETTO:-0400
TZNAME:EDT
DTSTART:20230312T070000
END:DAYLIGHT
BEGIN:STANDARD
TZOFFSETFROM:-0400
TZOFFSETTO:-0500
TZNAME:EST
DTSTART:20231105T060000
END:STANDARD
BEGIN:DAYLIGHT
TZOFFSETFROM:-0500
TZOFFSETTO:-0400
TZNAME:EDT
DTSTART:20240310T070000
END:DAYLIGHT
BEGIN:STANDARD
TZOFFSETFROM:-0400
TZOFFSETTO:-0500
TZNAME:EST
DTSTART:20241103T060000
END:STANDARD
END:VTIMEZONE
BEGIN:VEVENT
DTSTART;TZID=America/New_York:20231013T180000
DTEND;TZID=America/New_York:20231013T210000
DTSTAMP:20260420T040557
CREATED:20230820T002032Z
LAST-MODIFIED:20231014T152026Z
UID:8135-1697220000-1697230800@www.frankisart.com
SUMMARY:FRANK Opening Reception & 2nd Friday
DESCRIPTION:Exhibition: Dan Gottlieb and Barbara Tyroler with Red Nucleus Band Performance. \n\n\n\nDan Gottlieb’s SWAMP features a suite of pictures inspired by explorations of eastern North Carolina’s hauntingly beautiful cypress swamps\, mill ponds\, and creeks – and their fragile ecologies. Dan combines his life decades as an artist\, museum designer\, and environmental activist using a laborious experimental process of his own design. \n\n\n\nGarden Journeys\, A Portrait Photographer Explores the Landscape showcases the work of professional photographer and educator\, Barbara Tyroler. Primarily an environmental portrait artist and editorial commercial photographer\, Barbara first began rendering the natural landscape while meandering through the local hiking trails with students\, friends\, and family during the early seasons of our Covid pandemic. The abstracted imagery emerged as shaggy and snarly forms\, colors\, and textures and blossomed into a broader appreciation for the complex interconnectedness and social networking at play. \n\n\n\nDaniel Johnston is a prominent North Carolina-based potter with a national presence who is widely celebrated for his remarkable craftsmanship in creating large-scale pottery. Through his skillful hands\, he transforms clay into stunning\, monumental vessels that not only serve as utilitarian pieces but also as captivating works of art. Daniel Johnston’s pottery stands as a testament to his enduring dedication to the craft and his ability to capture the essence of North Carolina’s pottery heritage on a grand scale. \n\n\n\n\n\nBarbara Tyroler\, Night Neighbors 2\, from The Garden Journey\, photograph
URL:https://www.frankisart.com/event/frank-opening-reception-2nd-friday/
LOCATION:FRANK Gallery\, 370 E. Main St #130\, Carrboro\, NC\, 27510\, United States
CATEGORIES:Event,Opening
ATTACH;FMTTYPE=image/jpeg:https://www.frankisart.com/wp-content/uploads/2023/08/tyroler-click-promo.jpg
END:VEVENT
END:VCALENDAR