BEGIN:VCALENDAR
VERSION:2.0
PRODID:-//FRANK Gallery - ECPv6.15.20//NONSGML v1.0//EN
CALSCALE:GREGORIAN
METHOD:PUBLISH
X-ORIGINAL-URL:https://www.frankisart.com
X-WR-CALDESC:Events for FRANK Gallery
REFRESH-INTERVAL;VALUE=DURATION:PT1H
X-Robots-Tag:noindex
X-PUBLISHED-TTL:PT1H
BEGIN:VTIMEZONE
TZID:America/New_York
BEGIN:DAYLIGHT
TZOFFSETFROM:-0500
TZOFFSETTO:-0400
TZNAME:EDT
DTSTART:20220313T070000
END:DAYLIGHT
BEGIN:STANDARD
TZOFFSETFROM:-0400
TZOFFSETTO:-0500
TZNAME:EST
DTSTART:20221106T060000
END:STANDARD
BEGIN:DAYLIGHT
TZOFFSETFROM:-0500
TZOFFSETTO:-0400
TZNAME:EDT
DTSTART:20230312T070000
END:DAYLIGHT
BEGIN:STANDARD
TZOFFSETFROM:-0400
TZOFFSETTO:-0500
TZNAME:EST
DTSTART:20231105T060000
END:STANDARD
BEGIN:DAYLIGHT
TZOFFSETFROM:-0500
TZOFFSETTO:-0400
TZNAME:EDT
DTSTART:20240310T070000
END:DAYLIGHT
BEGIN:STANDARD
TZOFFSETFROM:-0400
TZOFFSETTO:-0500
TZNAME:EST
DTSTART:20241103T060000
END:STANDARD
END:VTIMEZONE
BEGIN:VEVENT
DTSTART;TZID=America/New_York:20230121T100000
DTEND;TZID=America/New_York:20230121T110000
DTSTAMP:20260420T200739
CREATED:20230808T193106Z
LAST-MODIFIED:20230808T195252Z
UID:3877-1674295200-1674298800@www.frankisart.com
SUMMARY:Panel Discussion: FRANK Latinx Invintational
DESCRIPTION:Join us in the gallery on January 21st\, from 10-11am for a Panel Discussion with the featured artists and moderated by FRANK member artist Theresa P-Tan. The artists will discuss the inspirations and techniques behind their own work as well as the term Latinx and its intricacies as it pertains to them and their cultural identity. Event is free.
URL:https://www.frankisart.com/event/panel-discussion-frank-latinx-invintational/
LOCATION:NC
CATEGORIES:Event
ATTACH;FMTTYPE=image/jpeg:https://www.frankisart.com/wp-content/uploads/2023/08/Cacique.jpg
END:VEVENT
END:VCALENDAR