BEGIN:VCALENDAR
VERSION:2.0
PRODID:-//FRANK Gallery - ECPv6.15.20//NONSGML v1.0//EN
CALSCALE:GREGORIAN
METHOD:PUBLISH
X-ORIGINAL-URL:https://www.frankisart.com
X-WR-CALDESC:Events for FRANK Gallery
REFRESH-INTERVAL;VALUE=DURATION:PT1H
X-Robots-Tag:noindex
X-PUBLISHED-TTL:PT1H
BEGIN:VTIMEZONE
TZID:America/New_York
BEGIN:DAYLIGHT
TZOFFSETFROM:-0500
TZOFFSETTO:-0400
TZNAME:EDT
DTSTART:20210314T070000
END:DAYLIGHT
BEGIN:STANDARD
TZOFFSETFROM:-0400
TZOFFSETTO:-0500
TZNAME:EST
DTSTART:20211107T060000
END:STANDARD
BEGIN:DAYLIGHT
TZOFFSETFROM:-0500
TZOFFSETTO:-0400
TZNAME:EDT
DTSTART:20220313T070000
END:DAYLIGHT
BEGIN:STANDARD
TZOFFSETFROM:-0400
TZOFFSETTO:-0500
TZNAME:EST
DTSTART:20221106T060000
END:STANDARD
BEGIN:DAYLIGHT
TZOFFSETFROM:-0500
TZOFFSETTO:-0400
TZNAME:EDT
DTSTART:20230312T070000
END:DAYLIGHT
BEGIN:STANDARD
TZOFFSETFROM:-0400
TZOFFSETTO:-0500
TZNAME:EST
DTSTART:20231105T060000
END:STANDARD
END:VTIMEZONE
BEGIN:VEVENT
DTSTART;TZID=America/New_York:20220129T110000
DTEND;TZID=America/New_York:20220129T120000
DTSTAMP:20260421T183131
CREATED:20230808T185030Z
LAST-MODIFIED:20230808T185032Z
UID:3909-1643454000-1643457600@www.frankisart.com
SUMMARY:Jan. 29 flute performance by Ryan Dial-Stanley
DESCRIPTION:Join us in the gallery on January 29\, 2022\, at 11 am for a live flute performance by Ryan Dial-Stanley. The performance will be among the wonderful works of art in the gallery’s Contemporary Native American Artist Invitational exhibit. \nRyan Dial-Stanley\, a Medical Lab Scientist at the UNC Medical Center\, is a member of the Lumbee tribe. He graduated last year from UNC with a Bachelors of Science in Clinical Laboratory Science and a minor in American Indian and Indigenous Studies. \nDial-Stanley served as the co-chair of the Powwow committee of the Carolina Indian Circle. The annual Powwows he led were close to his heart\, and he has attended them with his family since he was five years old. \nThe January 29 performance at The FRANK Gallery will be limited to 40 attendees. Vaccination cards and masks will be required.
URL:https://www.frankisart.com/event/jan-29-flute-performance-by-ryan-dial-stanley/
LOCATION:NC
CATEGORIES:Event
ATTACH;FMTTYPE=image/jpeg:https://www.frankisart.com/wp-content/uploads/2023/08/Ryan-Dial-Stanley.jpg
END:VEVENT
END:VCALENDAR