BEGIN:VCALENDAR
VERSION:2.0
PRODID:-//FRANK Gallery - ECPv6.15.20//NONSGML v1.0//EN
CALSCALE:GREGORIAN
METHOD:PUBLISH
X-ORIGINAL-URL:https://www.frankisart.com
X-WR-CALDESC:Events for FRANK Gallery
REFRESH-INTERVAL;VALUE=DURATION:PT1H
X-Robots-Tag:noindex
X-PUBLISHED-TTL:PT1H
BEGIN:VTIMEZONE
TZID:America/New_York
BEGIN:DAYLIGHT
TZOFFSETFROM:-0500
TZOFFSETTO:-0400
TZNAME:EDT
DTSTART:20200308T070000
END:DAYLIGHT
BEGIN:STANDARD
TZOFFSETFROM:-0400
TZOFFSETTO:-0500
TZNAME:EST
DTSTART:20201101T060000
END:STANDARD
BEGIN:DAYLIGHT
TZOFFSETFROM:-0500
TZOFFSETTO:-0400
TZNAME:EDT
DTSTART:20210314T070000
END:DAYLIGHT
BEGIN:STANDARD
TZOFFSETFROM:-0400
TZOFFSETTO:-0500
TZNAME:EST
DTSTART:20211107T060000
END:STANDARD
BEGIN:DAYLIGHT
TZOFFSETFROM:-0500
TZOFFSETTO:-0400
TZNAME:EDT
DTSTART:20220313T070000
END:DAYLIGHT
BEGIN:STANDARD
TZOFFSETFROM:-0400
TZOFFSETTO:-0500
TZNAME:EST
DTSTART:20221106T060000
END:STANDARD
END:VTIMEZONE
BEGIN:VEVENT
DTSTART;TZID=America/New_York:20211212T140000
DTEND;TZID=America/New_York:20211212T150000
DTSTAMP:20260421T202812
CREATED:20230808T184901Z
LAST-MODIFIED:20230808T184903Z
UID:3912-1639317600-1639321200@www.frankisart.com
SUMMARY:John Rosenthal Reading on Dec. 12
DESCRIPTION:Please join us in the gallery for a reading by photographer and author John Rosenthal on December 12th from 2-3pm. John will be talking about and reading from his highly praised recently published book Searching for Amylu Danzer.  There will be limited seating and admittance so please RSVP through the form below. Vaccination cards and masks will be required. \n  \nPraise for Searching for Amylu Danzer:\n “Friend or lover in your youth\, the ‘one that got away’  always takes a part of your heart along…for the feelings of youth are greater than we will ever know again…they swallow the earth.  Ever the image man\, John Rosenthal offers us an indelible portrait in Searching for Amylu Danzer of such a friend\, such a time\, such a loss.—LEE SMITH\, author of Family Linen and Fair and Tender Ladies: \n “Relying on his memory of a dear friend\, John Rosenthal has composed a once-in-a-lifetime reading experience. Searching for Amylu Danzer is funny; direct; and tantalizingly oblique; Rosenthal’s dramatic study of his relationship with Amylu–and with his memory of her–is smooth\, clear; and suspenseful. He masterfully shuffles time and event while weaving together photographic art\, memoir\, and novelistic technique. This book will knock you down in the way great books are supposed to knock you down. Skip it only if you’ve never lost someone you loved.”—CLYDE EDGERTON\, author of Walking Across Egypt and The Floatplane Notebooks
URL:https://www.frankisart.com/event/john-rosenthal-reading-on-dec-12/
LOCATION:NC
CATEGORIES:Event
ATTACH;FMTTYPE=image/jpeg:https://www.frankisart.com/wp-content/uploads/2023/08/thumbnail_image003.jpg
END:VEVENT
END:VCALENDAR