BEGIN:VCALENDAR
VERSION:2.0
PRODID:-//FRANK Gallery - ECPv6.15.20//NONSGML v1.0//EN
CALSCALE:GREGORIAN
METHOD:PUBLISH
X-WR-CALNAME:FRANK Gallery
X-ORIGINAL-URL:https://www.frankisart.com
X-WR-CALDESC:Events for FRANK Gallery
REFRESH-INTERVAL;VALUE=DURATION:PT1H
X-Robots-Tag:noindex
X-PUBLISHED-TTL:PT1H
BEGIN:VTIMEZONE
TZID:America/New_York
BEGIN:DAYLIGHT
TZOFFSETFROM:-0500
TZOFFSETTO:-0400
TZNAME:EDT
DTSTART:20200308T070000
END:DAYLIGHT
BEGIN:STANDARD
TZOFFSETFROM:-0400
TZOFFSETTO:-0500
TZNAME:EST
DTSTART:20201101T060000
END:STANDARD
BEGIN:DAYLIGHT
TZOFFSETFROM:-0500
TZOFFSETTO:-0400
TZNAME:EDT
DTSTART:20210314T070000
END:DAYLIGHT
BEGIN:STANDARD
TZOFFSETFROM:-0400
TZOFFSETTO:-0500
TZNAME:EST
DTSTART:20211107T060000
END:STANDARD
BEGIN:DAYLIGHT
TZOFFSETFROM:-0500
TZOFFSETTO:-0400
TZNAME:EDT
DTSTART:20220313T070000
END:DAYLIGHT
BEGIN:STANDARD
TZOFFSETFROM:-0400
TZOFFSETTO:-0500
TZNAME:EST
DTSTART:20221106T060000
END:STANDARD
END:VTIMEZONE
BEGIN:VEVENT
DTSTART;TZID=America/New_York:20211204T130000
DTEND;TZID=America/New_York:20211204T150000
DTSTAMP:20260421T202735
CREATED:20230808T184947Z
LAST-MODIFIED:20230808T184949Z
UID:3911-1638622800-1638630000@www.frankisart.com
SUMMARY:Poetry Fox at FRANK on Dec. 4
DESCRIPTION:Please join us in the gallery on December 4th from 1-3 pm to get a personalized\, impromptu poem by none other than the Poetry Fox while enjoying some hot chocolate provided by Epilogue Books. \nWriting on-demand with a typewriter\, the Fox will be sure to amuse and delight all guests. While you are at it\, walk around the gallery to pick up some locally made holiday gifts by our talented group of artists. \nThank you to our sponsor Shenandoah Realty for partnering on this super fun and unique holiday event. And an additional thank you to Epilogue Books and the Poetry Fox.
URL:https://www.frankisart.com/event/poetry-fox-at-frank-on-dec-4/
LOCATION:NC
CATEGORIES:Event
ATTACH;FMTTYPE=image/jpeg:https://www.frankisart.com/wp-content/uploads/2023/08/ScreenShot2021-11-17at12.57.00PM.jpg
END:VEVENT
END:VCALENDAR