BEGIN:VCALENDAR
VERSION:2.0
PRODID:-//FRANK Gallery - ECPv6.15.20//NONSGML v1.0//EN
CALSCALE:GREGORIAN
METHOD:PUBLISH
X-ORIGINAL-URL:https://www.frankisart.com
X-WR-CALDESC:Events for FRANK Gallery
REFRESH-INTERVAL;VALUE=DURATION:PT1H
X-Robots-Tag:noindex
X-PUBLISHED-TTL:PT1H
BEGIN:VTIMEZONE
TZID:America/New_York
BEGIN:DAYLIGHT
TZOFFSETFROM:-0500
TZOFFSETTO:-0400
TZNAME:EDT
DTSTART:20230312T070000
END:DAYLIGHT
BEGIN:STANDARD
TZOFFSETFROM:-0400
TZOFFSETTO:-0500
TZNAME:EST
DTSTART:20231105T060000
END:STANDARD
BEGIN:DAYLIGHT
TZOFFSETFROM:-0500
TZOFFSETTO:-0400
TZNAME:EDT
DTSTART:20240310T070000
END:DAYLIGHT
BEGIN:STANDARD
TZOFFSETFROM:-0400
TZOFFSETTO:-0500
TZNAME:EST
DTSTART:20241103T060000
END:STANDARD
BEGIN:DAYLIGHT
TZOFFSETFROM:-0500
TZOFFSETTO:-0400
TZNAME:EDT
DTSTART:20250309T070000
END:DAYLIGHT
BEGIN:STANDARD
TZOFFSETFROM:-0400
TZOFFSETTO:-0500
TZNAME:EST
DTSTART:20251102T060000
END:STANDARD
END:VTIMEZONE
BEGIN:VEVENT
DTSTART;TZID=America/New_York:20240603T100000
DTEND;TZID=America/New_York:20240603T120000
DTSTAMP:20260419T112746
CREATED:20240426T174449Z
LAST-MODIFIED:20240609T001406Z
UID:16609-1717408800-1717416000@www.frankisart.com
SUMMARY:Sketchbook Workshop with Shelly Hehenberger
DESCRIPTION:Three 2-hour sessions\, June 3\, 10 and 17\, Mondays 10am-noon   \n\n\n\n\nIn this 3-session workshop\, students will be learning the exciting art of working in a sketchbook format. \n\n\n\nWill include demonstrations of drawing\, painting\, collage and stamping. No experience or materials required\, except please bring a sketchbook\, recommended: Canson XL Mixed Media
URL:https://www.frankisart.com/event/sketchbook-workshop-with-shelly-hehenberger/
LOCATION:FRANK Gallery\, 370 E. Main St #130\, Carrboro\, NC\, 27510\, United States
CATEGORIES:Event,Workshop
ATTACH;FMTTYPE=image/jpeg:https://www.frankisart.com/wp-content/uploads/2024/04/Screenshot-2024-04-24-at-2.27.05 PM.jpg
END:VEVENT
BEGIN:VEVENT
DTSTART;TZID=America/New_York:20240603T130000
DTEND;TZID=America/New_York:20240603T153000
DTSTAMP:20260419T112746
CREATED:20240402T173107Z
LAST-MODIFIED:20240609T001400Z
UID:15104-1717419600-1717428600@www.frankisart.com
SUMMARY:Mosaic Mondays: Mosaic Garden Art!
DESCRIPTION:Session SA2\, Dates: Monday\, June 3\, 10\, 17\, 24\, 1:00 pm – 3:30 pm                                         \n\n\n\nCreate a piece of mosaic art for your garden through the exploration of the art of mosaics during this four-week (10 hour) course. We will begin this hands-on course with a brief history of mosaic art and will explore modern mosaic installations from around the world.  Students will learn mosaic techniques using shape\, color\, shading\, and texture. Students will work with a range of mosaic materials that can be used indoors and outdoors\, including multi-shape & texture glass tiles and ceramic tiles\, gems\, stones\, beads\, found objects. We’ll also discuss the best adhesives for indoor /outdoor use. Students will create a 3D mosaic garden piece appropriate for outdoors: either a 3D outdoor flower sculpture (tulip or daisy) \, a grouping of mosaic rock art\, or a 9-inch-tall birdhouse\, flowerpot\, or bird on a stake.  All materials are included in the class fee\, including substrate.  *Minimum 4 students/Max 10 \n\n\n\nSo that supplies can be available for students the 1st day of class\, please register for the session 8-10 days prior to the start date of the class.  Questions?  Please contact instructor Gabrielle Rousso at gbergrousso@gmail.com
URL:https://www.frankisart.com/event/mosaic-mondays-mosaic-garden-art/
LOCATION:FRANK Gallery\, 370 E. Main St #130\, Carrboro\, NC\, 27510\, United States
CATEGORIES:Event
ATTACH;FMTTYPE=image/jpeg:https://www.frankisart.com/wp-content/uploads/2024/04/16-9-gardenmosaics.jpg
ORGANIZER;CN="Gabrielle Rousso":MAILTO:gbergrousso@gmail.com
END:VEVENT
BEGIN:VEVENT
DTSTART;TZID=America/New_York:20240608T100000
DTEND;TZID=America/New_York:20240608T110000
DTSTAMP:20260419T112746
CREATED:20240530T155932Z
LAST-MODIFIED:20240609T001353Z
UID:17815-1717840800-1717844400@www.frankisart.com
SUMMARY:Drawing and Sketching Meet – Up with Carroll Lassiter
DESCRIPTION:Join us for a relaxed morning meet-up of drawing and sketching\, led by artist Carroll Lassiter. Bring your own supplies and enjoy complimentary coffee as you create art in the gallery. \n\n\n\nImmerse yourself in creativity and improve your skills in this inspiring setting!
URL:https://www.frankisart.com/event/drawing-and-sketching-meet-up-with-carroll-lassiter/
LOCATION:FRANK Gallery\, 370 E. Main St #130\, Carrboro\, NC\, 27510\, United States
CATEGORIES:Event,Workshop
ATTACH;FMTTYPE=image/jpeg:https://www.frankisart.com/wp-content/uploads/2024/03/coffee-promoImage.jpg
END:VEVENT
BEGIN:VEVENT
DTSTART;TZID=America/New_York:20240614T180000
DTEND;TZID=America/New_York:20240614T210000
DTSTAMP:20260419T112746
CREATED:20240529T142313Z
LAST-MODIFIED:20240615T163933Z
UID:17812-1718388000-1718398800@www.frankisart.com
SUMMARY:Second Friday Art Walk
DESCRIPTION:Drop into the gallery for our monthly Second Friday reception. There is so much to see at FRANK\, and we are walking distance to several other participating galleries.  \n\n\n\nSee the current exhibit featuring Carroll Lassiter\, Peg Bachenheimer\, guest artists Deborah Harris\, Judith Ernst\, and Kathy Armacost. And\, enjoy live music from Alison Weiner!
URL:https://www.frankisart.com/event/second-friday-art-walk/
LOCATION:FRANK Gallery\, 370 E. Main St #130\, Carrboro\, NC\, 27510\, United States
CATEGORIES:Event
ATTACH;FMTTYPE=image/jpeg:https://www.frankisart.com/wp-content/uploads/2024/05/SecondFriday-promo.jpg
END:VEVENT
END:VCALENDAR