BEGIN:VCALENDAR
VERSION:2.0
PRODID:-//FRANK Gallery - ECPv6.15.20//NONSGML v1.0//EN
CALSCALE:GREGORIAN
METHOD:PUBLISH
X-ORIGINAL-URL:https://www.frankisart.com
X-WR-CALDESC:Events for FRANK Gallery
REFRESH-INTERVAL;VALUE=DURATION:PT1H
X-Robots-Tag:noindex
X-PUBLISHED-TTL:PT1H
BEGIN:VTIMEZONE
TZID:America/New_York
BEGIN:DAYLIGHT
TZOFFSETFROM:-0500
TZOFFSETTO:-0400
TZNAME:EDT
DTSTART:20230312T070000
END:DAYLIGHT
BEGIN:STANDARD
TZOFFSETFROM:-0400
TZOFFSETTO:-0500
TZNAME:EST
DTSTART:20231105T060000
END:STANDARD
BEGIN:DAYLIGHT
TZOFFSETFROM:-0500
TZOFFSETTO:-0400
TZNAME:EDT
DTSTART:20240310T070000
END:DAYLIGHT
BEGIN:STANDARD
TZOFFSETFROM:-0400
TZOFFSETTO:-0500
TZNAME:EST
DTSTART:20241103T060000
END:STANDARD
BEGIN:DAYLIGHT
TZOFFSETFROM:-0500
TZOFFSETTO:-0400
TZNAME:EDT
DTSTART:20250309T070000
END:DAYLIGHT
BEGIN:STANDARD
TZOFFSETFROM:-0400
TZOFFSETTO:-0500
TZNAME:EST
DTSTART:20251102T060000
END:STANDARD
END:VTIMEZONE
BEGIN:VEVENT
DTSTART;TZID=America/New_York:20240505T140000
DTEND;TZID=America/New_York:20240505T150000
DTSTAMP:20260419T131954
CREATED:20240327T172857Z
LAST-MODIFIED:20240505T230750Z
UID:15300-1714917600-1714921200@www.frankisart.com
SUMMARY:Coffee with FRANK - with a twist!
DESCRIPTION:Our normally scheduled Coffee with FRANK is going to look a little different this month.  \n\n\n\nLet’s celebrate our Artists and Cinco de Mayo with an Artist Talk on Sunday\, May 5th from 2pm-3pm. Our featured artists\, members Carol Retsch-Bogart\, Linda Prager and Shelly Hehenberger will share their work\, techniques and inspiration\, while you enjoy drinks\, salsa and chips! 
URL:https://www.frankisart.com/event/coffee-with-frank-with-a-twist/
LOCATION:FRANK Gallery\, 370 E. Main St #130\, Carrboro\, NC\, 27510\, United States
CATEGORIES:Event
ATTACH;FMTTYPE=image/jpeg:https://www.frankisart.com/wp-content/uploads/2024/03/coffee-promoImage.jpg
END:VEVENT
BEGIN:VEVENT
DTSTART;TZID=America/New_York:20240508T173000
DTEND;TZID=America/New_York:20240508T183000
DTSTAMP:20260419T131954
CREATED:20240425T172222Z
LAST-MODIFIED:20240513T224412Z
UID:16573-1715189400-1715193000@www.frankisart.com
SUMMARY:Mask Making Event
DESCRIPTION:Create a fabulous mask for our upcoming Spring Masquerade at this free workshop. Or\, just come make a mask for fun! Join us at the gallery where we’ll have blank masks and other materials ready for you to add your personal touch.  \n\n\n\nThis is a free event\, but we do suggest a $5 materials fee to help us cover costs. \n\n\n\nLearn more about the Spring Masquerade Costume Party
URL:https://www.frankisart.com/event/mask-making-event/
LOCATION:FRANK Gallery\, 370 E. Main St #130\, Carrboro\, NC\, 27510\, United States
CATEGORIES:Event
ATTACH;FMTTYPE=image/jpeg:https://www.frankisart.com/wp-content/uploads/2024/04/masquerade-mask2.jpg
END:VEVENT
BEGIN:VEVENT
DTSTART;TZID=America/New_York:20240518T190000
DTEND;TZID=America/New_York:20240518T220000
DTSTAMP:20260419T131954
CREATED:20240131T171056Z
LAST-MODIFIED:20240519T141557Z
UID:13505-1716058800-1716069600@www.frankisart.com
SUMMARY:Spring Masquerade 2024
DESCRIPTION:We’re thrilled to invite you to our Spring Masquerade costume & dance party at FRANK Gallery in Carrboro\n\n\n\n\n\n\n\n\n\n\n\n\n\n\n\nEmbrace the Spirit of SpringJoin us for an unforgettable evening dedicated to supporting FRANK’s Non-Profit Mission of community outreach and education. As the season blooms\, let’s come together in celebration and charity. \n\n\n\nDress to ImpressUnleash your creativity! Whether you arrive in a fabulous costume and mask or come as you are (costume not required)\, be ready to immerse yourself in creativity and fun. If you do dress up\, awards await the most innovative costumes: \n\n\n\n\nBest use of recycled materials\n\n\n\nBest art or art history reference\n\n\n\nBest duo or group costume\n\n\n\nBest mask\n\n\n\nCreepiest Costume\n\n\n\nPeople’s choice award\n\n\n\n\nDance the Night AwayPrepare to groove to beats spun by our talented DJ. With an electrifying atmosphere and irresistible tunes\, the dance floor awaits you! \n\n\n\nDelightful Food and DrinkIndulge in delectable bites that will tantalize your taste buds\, all included with your ticket purchase. Each ticket comes with a complimentary drink to add a dash of spirit to your evening. For those seeking more\, a cash bar is at your service\, offering an array of tantalizing beverages. \n\n\n\n\n\nSee photos from this year’s Spring Masquerade \n\n\n\n\n\n\n\nTICKETS ALSO CAN BE PURCHASED AT THE EVENT \n\n\n\nYour Contribution MattersTickets are priced on a sliding scale from $50 to $200. We kindly encourage those with the means to consider contributing beyond the minimum amount\, as every contribution makes a meaningful impact on our community outreach mission. \n\n\n\n$75 helps us host community events at the gallery$100 helps us schedule regular artist talks and free workshops$150 helps us support emerging artists and reach out to under-represented artists$200 helps fund our Youth Art Program\, giving less-advantaged children a space and materials to feed their creativity \n\n\n\n\n\n\n\nMasks available at the eventYou don’t need a mask or costume to attend — but if you want a mask\, we’ll have some available at the party.
URL:https://www.frankisart.com/event/spring-masquerade-2024/
LOCATION:FRANK Gallery\, 370 E. Main St #130\, Carrboro\, NC\, 27510\, United States
CATEGORIES:Event
ATTACH;FMTTYPE=image/jpeg:https://www.frankisart.com/wp-content/uploads/2024/01/spring-masquerade-2024-16-9.jpg
END:VEVENT
BEGIN:VEVENT
DTSTART;TZID=America/New_York:20240524T180000
DTEND;TZID=America/New_York:20240524T210000
DTSTAMP:20260419T131954
CREATED:20240518T233141Z
LAST-MODIFIED:20240527T171911Z
UID:16541-1716573600-1716584400@www.frankisart.com
SUMMARY:Opening Reception
DESCRIPTION:Join us and the artists for the special opening reception for our May-June exhibit. We are showcasing the beautiful works of Carroll Lassiter\, Peg Bachenheimer\, guest artists Deborah Harris\, Judith Ernst\, and Kathy Armacost. You will find works that are colorful\, moving and always thoughtful in this show. \n\n\n\nLearn more about the exhibit
URL:https://www.frankisart.com/event/opening-reception-3/
LOCATION:FRANK Gallery\, 370 E. Main St #130\, Carrboro\, NC\, 27510\, United States
CATEGORIES:Event,Opening
ATTACH;FMTTYPE=image/jpeg:https://www.frankisart.com/wp-content/uploads/2024/04/may24-group-promoImage.jpg
END:VEVENT
END:VCALENDAR