BEGIN:VCALENDAR
VERSION:2.0
PRODID:-//FRANK Gallery - ECPv6.15.20//NONSGML v1.0//EN
CALSCALE:GREGORIAN
METHOD:PUBLISH
X-WR-CALNAME:FRANK Gallery
X-ORIGINAL-URL:https://www.frankisart.com
X-WR-CALDESC:Events for FRANK Gallery
REFRESH-INTERVAL;VALUE=DURATION:PT1H
X-Robots-Tag:noindex
X-PUBLISHED-TTL:PT1H
BEGIN:VTIMEZONE
TZID:America/New_York
BEGIN:DAYLIGHT
TZOFFSETFROM:-0500
TZOFFSETTO:-0400
TZNAME:EDT
DTSTART:20210314T070000
END:DAYLIGHT
BEGIN:STANDARD
TZOFFSETFROM:-0400
TZOFFSETTO:-0500
TZNAME:EST
DTSTART:20211107T060000
END:STANDARD
BEGIN:DAYLIGHT
TZOFFSETFROM:-0500
TZOFFSETTO:-0400
TZNAME:EDT
DTSTART:20220313T070000
END:DAYLIGHT
BEGIN:STANDARD
TZOFFSETFROM:-0400
TZOFFSETTO:-0500
TZNAME:EST
DTSTART:20221106T060000
END:STANDARD
BEGIN:DAYLIGHT
TZOFFSETFROM:-0500
TZOFFSETTO:-0400
TZNAME:EDT
DTSTART:20230312T070000
END:DAYLIGHT
BEGIN:STANDARD
TZOFFSETFROM:-0400
TZOFFSETTO:-0500
TZNAME:EST
DTSTART:20231105T060000
END:STANDARD
END:VTIMEZONE
BEGIN:VEVENT
DTSTART;TZID=America/New_York:20221008T180000
DTEND;TZID=America/New_York:20221008T210000
DTSTAMP:20260420T234403
CREATED:20230808T191654Z
LAST-MODIFIED:20230808T191700Z
UID:3898-1665252000-1665262800@www.frankisart.com
SUMMARY:Off the Wall Fundraising Gala
DESCRIPTION:FRANK’s signature fundraising event is well-known for its excitement\, spectacular selection of art\, and community roots. Join us in our 12th year as we support FRANK Gallery’s mission to enrich our community through art. \nWhen is the Gala? Saturday\, October 8th\, 2022 at 6 p.m. Eastern for Zoom and no later than 5:15pm for in person \nHow does it work? With the purchase of an Art Ticket\, the ticket holder’s name is entered into a pool with other art ticket holders at the beginning of the night. When the drawing starts\, the names of art ticket holders will be drawn at random (this is the fun part!) and read out loud by our emcee\, local radio personality\, Aaron Keck. Once your name is called\, you’ll have one minute to choose your favorite piece of art “off the wall” to take home. It gets exciting as you never know what the next piece to go will be! This year we will be hosting the event hybrid\, meaning we will be offering a limited amount of art and companion tickets for guests to attend in person! The in person guests will enjoy catered dinner from the exquisitely talented Alan Dehmer as well as able to partake in an open bar. \nThere will be over 70 pieces of donated art (from our generous artists!) all valued at more than the price of a ticket! We invite you to see all the artwork ahead time in two ways\, in-gallery or online. Visit the gallery the week before the event to see all the donated art hanging and soon we’ll start adding previews of donated art on our website\, updated with new art as we receive it — so check back often! \nWhere? The Gala will be held at the gallery and be live broadcast via Zoom for attendees who want to enjoy art and gourmet food in the comfort and safety of their home.  \nHow much are tickets? Tickets for virtual attendance are $395 for two people for one piece of art. Prices for art ticket holders in-person will be $450 and an additional $75 for a companion. Each in-person art ticket and companion ticket will receive one piece of art\, and will partake in a catered dinner. \nWe would love if you could join us from anywhere in the country and are happy to ship you the piece of art you win at an additional cost.  \n  \n 
URL:https://www.frankisart.com/event/off-the-wall-fundraising-gala/
LOCATION:NC
CATEGORIES:Event
ATTACH;FMTTYPE=image/jpeg:https://www.frankisart.com/wp-content/uploads/2023/08/IMG_7607.jpg
END:VEVENT
BEGIN:VEVENT
DTSTART;TZID=America/New_York:20221015T100000
DTEND;TZID=America/New_York:20221015T110000
DTSTAMP:20260420T234403
CREATED:20230808T192436Z
LAST-MODIFIED:20230808T192438Z
UID:3892-1665828000-1665831600@www.frankisart.com
SUMMARY:Coffee with FRANK featuring: Nerys Levy and Carroll Lassiter
DESCRIPTION:Join us for October’s Coffee led by FRANK member and featured artists Carroll Lassiter and Nerys Levy. Carroll and Nerys will be discussing their current work and the inspiration behind their pieces. We would love to have you join and listen to this exciting talk by these two very talented and creative artists. Event is free\, but if you can RSVP below so we can ensure\, seats\, donuts\, and coffee!
URL:https://www.frankisart.com/event/coffee-with-frank-featuring-nerys-levy-and-carroll-lassiter/
LOCATION:NC
CATEGORIES:Event
ATTACH;FMTTYPE=image/jpeg:https://www.frankisart.com/wp-content/uploads/2023/08/carrollandneryscoffee_edited-1.jpg
END:VEVENT
END:VCALENDAR