BEGIN:VCALENDAR
VERSION:2.0
PRODID:-//FRANK Gallery - ECPv6.15.20//NONSGML v1.0//EN
CALSCALE:GREGORIAN
METHOD:PUBLISH
X-WR-CALNAME:FRANK Gallery
X-ORIGINAL-URL:https://www.frankisart.com
X-WR-CALDESC:Events for FRANK Gallery
REFRESH-INTERVAL;VALUE=DURATION:PT1H
X-Robots-Tag:noindex
X-PUBLISHED-TTL:PT1H
BEGIN:VTIMEZONE
TZID:America/New_York
BEGIN:DAYLIGHT
TZOFFSETFROM:-0500
TZOFFSETTO:-0400
TZNAME:EDT
DTSTART:20210314T070000
END:DAYLIGHT
BEGIN:STANDARD
TZOFFSETFROM:-0400
TZOFFSETTO:-0500
TZNAME:EST
DTSTART:20211107T060000
END:STANDARD
BEGIN:DAYLIGHT
TZOFFSETFROM:-0500
TZOFFSETTO:-0400
TZNAME:EDT
DTSTART:20220313T070000
END:DAYLIGHT
BEGIN:STANDARD
TZOFFSETFROM:-0400
TZOFFSETTO:-0500
TZNAME:EST
DTSTART:20221106T060000
END:STANDARD
BEGIN:DAYLIGHT
TZOFFSETFROM:-0500
TZOFFSETTO:-0400
TZNAME:EDT
DTSTART:20230312T070000
END:DAYLIGHT
BEGIN:STANDARD
TZOFFSETFROM:-0400
TZOFFSETTO:-0500
TZNAME:EST
DTSTART:20231105T060000
END:STANDARD
END:VTIMEZONE
BEGIN:VEVENT
DTSTART;TZID=America/New_York:20220305T100000
DTEND;TZID=America/New_York:20220305T110000
DTSTAMP:20260421T123956
CREATED:20230808T185217Z
LAST-MODIFIED:20230808T185220Z
UID:3907-1646474400-1646478000@www.frankisart.com
SUMMARY:Coffee with FRANK: Collecting Art\, March 5\, 2022
DESCRIPTION:This free session takes place in the FRANK gallery\, the first Saturday of March from 10-11 am. Come join us for a casual\, in person discussion about the basics of collecting and buying art.
URL:https://www.frankisart.com/event/coffee-with-frank-collecting-art-march-5-2022/
LOCATION:NC
CATEGORIES:Event
ATTACH;FMTTYPE=image/jpeg:https://www.frankisart.com/wp-content/uploads/2023/08/coffeewithfrank.jpg
END:VEVENT
BEGIN:VEVENT
DTSTART;TZID=America/New_York:20220326T170000
DTEND;TZID=America/New_York:20220326T180000
DTSTAMP:20260421T123956
CREATED:20230808T185740Z
LAST-MODIFIED:20230808T185741Z
UID:3906-1648314000-1648317600@www.frankisart.com
SUMMARY:Sail Away Ladies Performance at FRANK
DESCRIPTION:Please join us in the gallery on March 26th from 5-6pm for a performance by the Sail Away Ladies. Sail Away Ladies is comprised of singers Irene Felsman\, Mitzi Quint\, and FRANK member and featured artist\, Linda Prager. This group of friends who love to sing together\, blend their voices in harmony across different musical genres. \nWe will be requiring RSVP’s and capping entries at 35 people. We will be checking vaccination cards (or photos) at the door. and requiring masks to be worn. \nLook forward to having you Sail Away with us at FRANK.
URL:https://www.frankisart.com/event/sail-away-ladies-performance-at-frank/
LOCATION:NC
CATEGORIES:Event
ATTACH;FMTTYPE=image/jpeg:https://www.frankisart.com/wp-content/uploads/2023/08/69858184_10217170152223691_612977586456231936_n.jpg
END:VEVENT
END:VCALENDAR