BEGIN:VCALENDAR
VERSION:2.0
PRODID:-//FRANK Gallery - ECPv6.15.20//NONSGML v1.0//EN
CALSCALE:GREGORIAN
METHOD:PUBLISH
X-ORIGINAL-URL:https://www.frankisart.com
X-WR-CALDESC:Events for FRANK Gallery
REFRESH-INTERVAL;VALUE=DURATION:PT1H
X-Robots-Tag:noindex
X-PUBLISHED-TTL:PT1H
BEGIN:VTIMEZONE
TZID:America/New_York
BEGIN:DAYLIGHT
TZOFFSETFROM:-0500
TZOFFSETTO:-0400
TZNAME:EDT
DTSTART:20200308T070000
END:DAYLIGHT
BEGIN:STANDARD
TZOFFSETFROM:-0400
TZOFFSETTO:-0500
TZNAME:EST
DTSTART:20201101T060000
END:STANDARD
BEGIN:DAYLIGHT
TZOFFSETFROM:-0500
TZOFFSETTO:-0400
TZNAME:EDT
DTSTART:20210314T070000
END:DAYLIGHT
BEGIN:STANDARD
TZOFFSETFROM:-0400
TZOFFSETTO:-0500
TZNAME:EST
DTSTART:20211107T060000
END:STANDARD
BEGIN:DAYLIGHT
TZOFFSETFROM:-0500
TZOFFSETTO:-0400
TZNAME:EDT
DTSTART:20220313T070000
END:DAYLIGHT
BEGIN:STANDARD
TZOFFSETFROM:-0400
TZOFFSETTO:-0500
TZNAME:EST
DTSTART:20221106T060000
END:STANDARD
END:VTIMEZONE
BEGIN:VEVENT
DTSTART;TZID=America/New_York:20211009T180000
DTEND;TZID=America/New_York:20211009T210000
DTSTAMP:20260421T221402
CREATED:20230808T184531Z
LAST-MODIFIED:20230808T184637Z
UID:3915-1633802400-1633813200@www.frankisart.com
SUMMARY:2021 Off the Wall Fundraising Gala
DESCRIPTION:FRANK’S SIGNATURE FUNDRAISING EVENT IS WELL-KNOWN FOR ITS EXCITEMENT\, SPECTACULAR SELECTION OF ART\, AND COMMUNITY ROOTS. JOIN US IN OUR 11TH YEAR AS WE SUPPORT FRANK GALLERY’S MISSION TO ENRICH OUR COMMUNITY THROUGH ART. \nHow does it work? With the purchase of an Art Ticket\, the ticket holder’s name is entered into a pool with other art ticket holders at the beginning of the night. When the drawing starts\, the names of art ticket holders will be drawn at random (this is the fun part!) and read out loud by our emcee\, local radio personality\, Aaron Keck. Once your name is called\, you’ll have one minute to choose your favorite piece of art “off the wall” to take home. It gets exciting as you never know what the next piece to go will be! \nYou are also invited to visit the gallery the week before the event to see all the donated art in person and we will be sending out an artwork list prior to the event so everyone can make a list of your favorite art\, in order of preference.  \nThere will be over 70 pieces of donated art (from our generous artists!) all valued at more than the price of a ticket and will be posted on our website prior to the event\, so stay tuned and check back often to get an early look. \nWhere? The Gala will be live broadcast via Zoom from the Gallery to your home where you can enjoy art and gourmet food in the comfort and safety of home.  \nHow much are tickets? Tickets for virtual attendance are $395 for two people for one piece of art.  \nWe would love if you could join us from anywhere in the country and are happy to ship you the piece of art you win at an additional cost. 
URL:https://www.frankisart.com/event/2021-off-the-wall-fundraising-gala/
LOCATION:NC
CATEGORIES:Event
ATTACH;FMTTYPE=image/jpeg:https://www.frankisart.com/wp-content/uploads/2023/08/OTWGala2021-wide.jpg
END:VEVENT
END:VCALENDAR