BEGIN:VCALENDAR
VERSION:2.0
PRODID:-//FRANK Gallery - ECPv6.15.20//NONSGML v1.0//EN
CALSCALE:GREGORIAN
METHOD:PUBLISH
X-ORIGINAL-URL:https://www.frankisart.com
X-WR-CALDESC:Events for FRANK Gallery
REFRESH-INTERVAL;VALUE=DURATION:PT1H
X-Robots-Tag:noindex
X-PUBLISHED-TTL:PT1H
BEGIN:VTIMEZONE
TZID:America/New_York
BEGIN:DAYLIGHT
TZOFFSETFROM:-0500
TZOFFSETTO:-0400
TZNAME:EDT
DTSTART:20190310T070000
END:DAYLIGHT
BEGIN:STANDARD
TZOFFSETFROM:-0400
TZOFFSETTO:-0500
TZNAME:EST
DTSTART:20191103T060000
END:STANDARD
BEGIN:DAYLIGHT
TZOFFSETFROM:-0500
TZOFFSETTO:-0400
TZNAME:EDT
DTSTART:20200308T070000
END:DAYLIGHT
BEGIN:STANDARD
TZOFFSETFROM:-0400
TZOFFSETTO:-0500
TZNAME:EST
DTSTART:20201101T060000
END:STANDARD
BEGIN:DAYLIGHT
TZOFFSETFROM:-0500
TZOFFSETTO:-0400
TZNAME:EDT
DTSTART:20210314T070000
END:DAYLIGHT
BEGIN:STANDARD
TZOFFSETFROM:-0400
TZOFFSETTO:-0500
TZNAME:EST
DTSTART:20211107T060000
END:STANDARD
END:VTIMEZONE
BEGIN:VEVENT
DTSTART;TZID=America/New_York:20201010T180000
DTEND;TZID=America/New_York:20201010T210000
DTSTAMP:20260422T181010
CREATED:20230808T183119Z
LAST-MODIFIED:20230808T183121Z
UID:3924-1602352800-1602363600@www.frankisart.com
SUMMARY:2020 Off the Wall Fundraising Gala
DESCRIPTION:How does it work? With the purchase of an Art Ticket\, the ticket holder’s name is entered into a random drawing the night of the event. In order to view all the artwork ahead time\, you can click on the“Donated Art” button (below) prior to the event—which is updated as new art pieces come in. You are also invited to visit the gallery October 6th-10th 12-5pm to see all the donated art in person and we will be sending out an artwork list on October 6th so everyone can make a list of your favorite art\, in order of preference.  When the drawing starts\, the names of art ticket holders will be drawn at random (this is the fun part!) and read out loud by our emcee\, local radio personality\, Aaron Keck. Once your name is called\, you’ll have one minute to choose your favorite piece of art “off the wall” to take home. It gets exciting as you never know what the next piece to go will be! \nThere will be over 60 pieces of donated art all valued at more than the price of a ticket and will be posted on our website prior to the event\, so stay tuned and check back often to get an early look. The format of this year’s event will be a little different since it will be done virtually however we can assure you the same exciting event with the same quality and value of beautiful art choices. We will be sending out a form for your preference of food and drink and will be making non-contact deliveries prior to the event for each ticket holder with a charcuterie box from Femme Fromage\, bottle of your choice of wine from Gioiawines\, or non-alcoholic beverage\, and sweet treat from SmallCakes. \nWhere? VIRTUALLY! The Gala will be live broadcast via Zoom from the Gallery to your home where you can enjoy art and gourmet food in the comfort and safety of home. It will be a different Gala for sure\, but we promise it will still have the same excitement as years past! \nHow much are tickets? Typically tickets are $450 and an extra $50 to bring a companion\, however\, since the format (not the fun!) is different this year the tickets are $375 for two people for one piece of art. TICKETS ARE SOLD OUT! \nWe would love if you could join us from anywhere in the country and are happy to ship you the piece of art you win at an additional cost.
URL:https://www.frankisart.com/event/2020-off-the-wall-fundraising-gala/
LOCATION:NC
CATEGORIES:Event
ATTACH;FMTTYPE=image/jpeg:https://www.frankisart.com/wp-content/uploads/2023/08/FRANK-GALA-2020-Invite-card-5x7-front.jpg
END:VEVENT
END:VCALENDAR