BEGIN:VCALENDAR
VERSION:2.0
PRODID:-//FRANK Gallery - ECPv6.15.20//NONSGML v1.0//EN
CALSCALE:GREGORIAN
METHOD:PUBLISH
X-ORIGINAL-URL:https://www.frankisart.com
X-WR-CALDESC:Events for FRANK Gallery
REFRESH-INTERVAL;VALUE=DURATION:PT1H
X-Robots-Tag:noindex
X-PUBLISHED-TTL:PT1H
BEGIN:VTIMEZONE
TZID:America/New_York
BEGIN:DAYLIGHT
TZOFFSETFROM:-0500
TZOFFSETTO:-0400
TZNAME:EDT
DTSTART:20230312T070000
END:DAYLIGHT
BEGIN:STANDARD
TZOFFSETFROM:-0400
TZOFFSETTO:-0500
TZNAME:EST
DTSTART:20231105T060000
END:STANDARD
BEGIN:DAYLIGHT
TZOFFSETFROM:-0500
TZOFFSETTO:-0400
TZNAME:EDT
DTSTART:20240310T070000
END:DAYLIGHT
BEGIN:STANDARD
TZOFFSETFROM:-0400
TZOFFSETTO:-0500
TZNAME:EST
DTSTART:20241103T060000
END:STANDARD
BEGIN:DAYLIGHT
TZOFFSETFROM:-0500
TZOFFSETTO:-0400
TZNAME:EDT
DTSTART:20250309T070000
END:DAYLIGHT
BEGIN:STANDARD
TZOFFSETFROM:-0400
TZOFFSETTO:-0500
TZNAME:EST
DTSTART:20251102T060000
END:STANDARD
END:VTIMEZONE
BEGIN:VEVENT
DTSTART;TZID=America/New_York:20240101T080000
DTEND;TZID=America/New_York:20240131T170000
DTSTAMP:20260419T093859
CREATED:20231212T181323Z
LAST-MODIFIED:20240203T195107Z
UID:12235-1704096000-1706720400@www.frankisart.com
SUMMARY:Collecting Art Supplies for the ArtsCenter
DESCRIPTION:For the whole month of January we will be continuing to collect art supplies for our neighbors at the ArtsCenter. Please bring your new (or gently used) art supplies to FRANK and support local art education for their Adult & Teen Class Programs.  We ask that all items please be clean and in good working condition. \n\n\n\n\nProfessional-quality paint: Watercolor\, acrylic\, oil\n\n\n\nProfessional-quality paintbrushes (all sizes & shapes)\n\n\n\nCanvases\, all sizes\n\n\n\nWatercolor paper\n\n\n\nScrapbooking items: ink pads\, stamps\, stickers\, shape cutouts\, patterned/colorful paper\, washi tape\, etc.\n\n\n\n1 gallon of Gamsol or a gallon odorless Turepnoid\n\n\n\nCharcoal for drawing\n\n\n\nSoft pastels\n\n\n\n18×24” newsprint pad(s)\n\n\n\nNeedle nose pliers (basketry)\n\n\n\nBeads (for baskets)\n\n\n\nSafety ruler cutting edge\n\n\n\n“Self heal” cutting mat\, 2×3 ft\n\n\n\nBig Foot Safety Ruler\n\n\n\nSign Shop Straight Edge Ruler\n\n\n\nGamblin Refined Linseed Oil\n\n\n\nArches Oil Paper\n\n\n\nIroning board(s) – gently used is fine
URL:https://www.frankisart.com/event/donate-art-supplies/
LOCATION:FRANK Gallery\, 370 E. Main St #130\, Carrboro\, NC\, 27510\, United States
CATEGORIES:Event
ATTACH;FMTTYPE=image/jpeg:https://www.frankisart.com/wp-content/uploads/2023/12/art-supplies.jpg
END:VEVENT
END:VCALENDAR