BEGIN:VCALENDAR
VERSION:2.0
PRODID:-//FRANK Gallery - ECPv6.15.20//NONSGML v1.0//EN
CALSCALE:GREGORIAN
METHOD:PUBLISH
X-WR-CALNAME:FRANK Gallery
X-ORIGINAL-URL:https://www.frankisart.com
X-WR-CALDESC:Events for FRANK Gallery
REFRESH-INTERVAL;VALUE=DURATION:PT1H
X-Robots-Tag:noindex
X-PUBLISHED-TTL:PT1H
BEGIN:VTIMEZONE
TZID:America/New_York
BEGIN:DAYLIGHT
TZOFFSETFROM:-0500
TZOFFSETTO:-0400
TZNAME:EDT
DTSTART:20220313T070000
END:DAYLIGHT
BEGIN:STANDARD
TZOFFSETFROM:-0400
TZOFFSETTO:-0500
TZNAME:EST
DTSTART:20221106T060000
END:STANDARD
BEGIN:DAYLIGHT
TZOFFSETFROM:-0500
TZOFFSETTO:-0400
TZNAME:EDT
DTSTART:20230312T070000
END:DAYLIGHT
BEGIN:STANDARD
TZOFFSETFROM:-0400
TZOFFSETTO:-0500
TZNAME:EST
DTSTART:20231105T060000
END:STANDARD
BEGIN:DAYLIGHT
TZOFFSETFROM:-0500
TZOFFSETTO:-0400
TZNAME:EDT
DTSTART:20240310T070000
END:DAYLIGHT
BEGIN:STANDARD
TZOFFSETFROM:-0400
TZOFFSETTO:-0500
TZNAME:EST
DTSTART:20241103T060000
END:STANDARD
END:VTIMEZONE
BEGIN:VEVENT
DTSTART;TZID=America/New_York:20230926T000000
DTEND;TZID=America/New_York:20231111T235959
DTSTAMP:20260419T150915
CREATED:20230810T203205Z
LAST-MODIFIED:20230924T211110Z
UID:4819-1695686400-1699747199@www.frankisart.com
SUMMARY:Featured Artists Exhibit Sep/Nov 2023
DESCRIPTION:Featuring Barbara Tyroler\, Dan Gottlieb and guest artist Daniel Johnston. \n\n\n\n\n\n\n\n\n\n\nBarbara Tyroler\n\n\n\nBarbara Tyroler\, a multi-talented professional portrait photographer\, artist\, college-level educator\, and dedicated community advocate.  Her recent collection of tree photography exudes a captivating blend of technical prowess and artistic sensibility.  \n\n\n\nWith a keen eye for detail and a unique artistic perspective\, Barbara’s work transcends traditional photography\, transforming trees into mesmerizing subjects that evoke emotion and connection with the natural world. Her portfolio showcases a blend of creative portrait consignments\, one-on-one photo tutorials\, and small group workshops\, making her not only a skilled photographer but also a passionate educator who shares her expertise with others. Through her lens\, Barbara Tyroler invites us to appreciate the sublime elegance of trees and the power of visual storytelling. \n\n\n\n\n\n\n\n\n\n\n\n\nDan Gottlieb\n\n\n\nDan Gottlieb’s photography is a mesmerizing fusion of innovation and craftsmanship. His proprietary process\, a meticulously designed blend of non-traditional materials and painstaking effort\, breathes life into his images. By subjecting long camera exposures to a digital reversal and then printing them on clear acrylic panels\, Dan creates ethereal visuals that seem to transcend the boundaries of traditional photography. His dedication to achieving luminosity is evident through the application of foundational paint layers behind the image\, followed by meticulous hand-polishing with fine compounds. In his “SWAMP” series\, Dan draws inspiration from North Carolina’s evocative lowland ecosystems\, capturing their haunting beauty and fragility. This body of work\, stemming from his residency at The Peanut Factory in Edenton\, is a testament to Dan’s unique vision and artistic innovation. \n\n\n\n\n\n\n\n\nDaniel Johnston\n\n\n\nDaniel Johnston\, a prominent North Carolina-based potter with a national presence\, is celebrated for his remarkable craftsmanship in creating large-scale pottery. With a deep-rooted connection to the rich traditions of ceramics in his home state\, Daniel’s work transcends conventional boundaries. His creations are a testament to his mastery of form\, marrying functionality with artistic expression. Through his skillful hands\, he transforms clay into stunning\, monumental vessels that not only serve as utilitarian pieces but also as captivating works of art. Daniel Johnston’s pottery stands as a testament to his enduring dedication to the craft and his ability to capture the essence of North Carolina’s pottery heritage on a grand scale.
URL:https://www.frankisart.com/event/featured-artists-exhibit-sep-nov-2023/
LOCATION:FRANK Gallery\, 370 E. Main St #130\, Carrboro\, NC\, 27510\, United States
CATEGORIES:Exhibit
ATTACH;FMTTYPE=image/jpeg:https://www.frankisart.com/wp-content/uploads/2023/08/Tyroler-HudsonRiverValley-crop.jpg
END:VEVENT
BEGIN:VEVENT
DTSTART;TZID=America/New_York:20231002T000000
DTEND;TZID=America/New_York:20231030T235959
DTSTAMP:20260419T150915
CREATED:20230807T154520Z
LAST-MODIFIED:20230924T212015Z
UID:3730-1696204800-1698710399@www.frankisart.com
SUMMARY:Frank in Focus 2023
DESCRIPTION:Dan Gottlieb\, SWAMP\, Archival print\n\n\n\n\n\n\n\n\n\n\n\n\n\n\n\n\n\nFRANK:inFocus is proud to be part of the annual Triangle-wide CLICK! Photography Festival showcasing the talents of photographers from around the world\n\n\n\nThe month of October is an exciting celebration of photography with FRANK:inFocus featuring the work of members Barbara Tyroler and Dan Gottlieb. “The Click! Photography Festival celebrates the medium of photography and its cultural influence by engaging the photography community with exceptional photo-based works\, artists\, and programming.” (www.clickphotofest.org) FRANK:inFocus will also feature FRANK member and guest photographers;  Alan Dehmer\, Peter Filene\, Bill McAllister\, Tama Hochbaum\, Bryce Lankard\, John Rosenthal\, Leah Sobsey\, Tim Walter\, and Wojtek Wojenski. Please join us for this exciting month filled with lots of engaging events: \n\n\n\nPlease join us for this exciting month filled with engaging events\n\n\n\n\nOCTOBER 7 Coffee and Conversation with Dan Gottlieb and Barbara Tyroler Contact\n\n\n\nOCTOBER 9 iPhone Advanced Workshop with Bryce Lankard\n\n\n\nOCTOBER 11 An Evening with Photographer Alex Harris\n\n\n\nOCTOBER 13 FRANK Opening Reception & 2nd Friday\n\n\n\nOCTOBER 29 & 30 FRANK and ArtsCenter Partnership Student Exhibition at ArtsCenter Theater Gallery
URL:https://www.frankisart.com/event/frank-in-focus-2023/
LOCATION:NC
CATEGORIES:Exhibit
ATTACH;FMTTYPE=image/jpeg:https://www.frankisart.com/wp-content/uploads/2023/08/FIFLogo.jpg
END:VEVENT
BEGIN:VEVENT
DTSTART;TZID=America/New_York:20231009T130000
DTEND;TZID=America/New_York:20231009T160000
DTSTAMP:20260419T150915
CREATED:20230823T000148Z
LAST-MODIFIED:20231011T141208Z
UID:8126-1696856400-1696867200@www.frankisart.com
SUMMARY:iPhone Advanced Workshop with Bryce Lankard
DESCRIPTION:Contact: Bryce Lankard bryce@clickphotofest.org 917-204-8165 \n\n\n\nThe Omnipresent Camera\, an advanced Smartphone workshop. The new millennium has put a quality camera in nearly everyone’s pocket in the form of a smartphone. The camera phone and an application or two are powerful and creative tools. Students will learn a few tips and tricks that can make their creative voice sing with this little device. This workshop will review basic camera phone controls\, some filmmaking and photography tips and basic editing tips. We will also do a deeper dive into a couple of post-production applications\, like 8mm\, Hipstamatic and Instagram\, that can take images to the next level. Students should bring images previously taken and please bring your camera/phone and ideally your laptop to upload images. It is strongly recommended that students download other Photography editing applications (my preferred app is HIpstamatic). \n\n\n\nBryce Lankard has made images in the south as a documentary photographer for 35 years. He was a co-founder and creative director of Tribe Magazine\, co-founder of the New Orleans Photo Alliance\, co-founder / executive director of the Click! Photography Festival\, and an instructor at the Center for Documentary Studies. Exhibitions have featured work created with an iPhone. His current project\, Drawn to Water\, appeared in Southern Cultures. Bryce’s solo exhibition venues include Flanders Gallery in Raleigh\, NC and the Southeast Center for Photography in Greenville\, SC. His work was recently featured in Across County Lines\, Contemporary Photography from the Piedmont at the Nasher Museum of Art at Duke University. 
URL:https://www.frankisart.com/event/iphone-advanced-workshop-with-bryce-lankard/
LOCATION:FRANK Gallery\, 370 E. Main St #130\, Carrboro\, NC\, 27510\, United States
CATEGORIES:Event
ATTACH;FMTTYPE=image/jpeg:https://www.frankisart.com/wp-content/uploads/2023/08/image-298.jpeg
END:VEVENT
END:VCALENDAR