BEGIN:VCALENDAR
VERSION:2.0
PRODID:-//FRANK Gallery - ECPv6.15.20//NONSGML v1.0//EN
CALSCALE:GREGORIAN
METHOD:PUBLISH
X-WR-CALNAME:FRANK Gallery
X-ORIGINAL-URL:https://www.frankisart.com
X-WR-CALDESC:Events for FRANK Gallery
REFRESH-INTERVAL;VALUE=DURATION:PT1H
X-Robots-Tag:noindex
X-PUBLISHED-TTL:PT1H
BEGIN:VTIMEZONE
TZID:America/New_York
BEGIN:DAYLIGHT
TZOFFSETFROM:-0500
TZOFFSETTO:-0400
TZNAME:EDT
DTSTART:20210314T070000
END:DAYLIGHT
BEGIN:STANDARD
TZOFFSETFROM:-0400
TZOFFSETTO:-0500
TZNAME:EST
DTSTART:20211107T060000
END:STANDARD
BEGIN:DAYLIGHT
TZOFFSETFROM:-0500
TZOFFSETTO:-0400
TZNAME:EDT
DTSTART:20220313T070000
END:DAYLIGHT
BEGIN:STANDARD
TZOFFSETFROM:-0400
TZOFFSETTO:-0500
TZNAME:EST
DTSTART:20221106T060000
END:STANDARD
BEGIN:DAYLIGHT
TZOFFSETFROM:-0500
TZOFFSETTO:-0400
TZNAME:EDT
DTSTART:20230312T070000
END:DAYLIGHT
BEGIN:STANDARD
TZOFFSETFROM:-0400
TZOFFSETTO:-0500
TZNAME:EST
DTSTART:20231105T060000
END:STANDARD
END:VTIMEZONE
BEGIN:VEVENT
DTSTART;TZID=America/New_York:20221115T000000
DTEND;TZID=America/New_York:20221224T000000
DTSTAMP:20260422T161412
CREATED:20230808T192402Z
LAST-MODIFIED:20230808T192403Z
UID:3891-1668470400-1671840000@www.frankisart.com
SUMMARY:Holiday Show 2022
DESCRIPTION:Featuring FRANK member artists with many new and returning guest artists  Give the gift of art this year. We are filling the gallery with a lot of wonderful artwork in various media from a wide array of local and regional artists!
URL:https://www.frankisart.com/event/holiday-show-2022/
LOCATION:NC
CATEGORIES:Exhibit
ATTACH;FMTTYPE=image/jpeg:https://www.frankisart.com/wp-content/uploads/2023/08/2022holidayshowcardfront.jpg
END:VEVENT
BEGIN:VEVENT
DTSTART;TZID=America/New_York:20221210T100000
DTEND;TZID=America/New_York:20221210T110000
DTSTAMP:20260422T161412
CREATED:20230808T192536Z
LAST-MODIFIED:20230808T195324Z
UID:3880-1670666400-1670670000@www.frankisart.com
SUMMARY:Holiday wrapping and art talk
DESCRIPTION:Join us in the gallery for a fun and festive morning sponsored by our friends at Shenandoah Realty. Epilogue will be providing hot chocolate and there will be a wrapping station to help with all your gift giving needs. We also encourage you to bring pictures of your home with some spaces that you could use art for\, let our artists and experts help you find the perfect piece! We hope to see you all there!
URL:https://www.frankisart.com/event/holiday-wrapping-and-art-talk/
LOCATION:NC
CATEGORIES:Event
ATTACH;FMTTYPE=image/jpeg:https://www.frankisart.com/wp-content/uploads/2023/08/Holidayevent_edited-1.jpg
END:VEVENT
END:VCALENDAR