BEGIN:VCALENDAR
VERSION:2.0
PRODID:-//FRANK Gallery - ECPv6.15.20//NONSGML v1.0//EN
CALSCALE:GREGORIAN
METHOD:PUBLISH
X-WR-CALNAME:FRANK Gallery
X-ORIGINAL-URL:https://www.frankisart.com
X-WR-CALDESC:Events for FRANK Gallery
REFRESH-INTERVAL;VALUE=DURATION:PT1H
X-Robots-Tag:noindex
X-PUBLISHED-TTL:PT1H
BEGIN:VTIMEZONE
TZID:America/New_York
BEGIN:DAYLIGHT
TZOFFSETFROM:-0500
TZOFFSETTO:-0400
TZNAME:EDT
DTSTART:20180311T070000
END:DAYLIGHT
BEGIN:STANDARD
TZOFFSETFROM:-0400
TZOFFSETTO:-0500
TZNAME:EST
DTSTART:20181104T060000
END:STANDARD
BEGIN:DAYLIGHT
TZOFFSETFROM:-0500
TZOFFSETTO:-0400
TZNAME:EDT
DTSTART:20190310T070000
END:DAYLIGHT
BEGIN:STANDARD
TZOFFSETFROM:-0400
TZOFFSETTO:-0500
TZNAME:EST
DTSTART:20191103T060000
END:STANDARD
BEGIN:DAYLIGHT
TZOFFSETFROM:-0500
TZOFFSETTO:-0400
TZNAME:EDT
DTSTART:20200308T070000
END:DAYLIGHT
BEGIN:STANDARD
TZOFFSETFROM:-0400
TZOFFSETTO:-0500
TZNAME:EST
DTSTART:20201101T060000
END:STANDARD
END:VTIMEZONE
BEGIN:VEVENT
DTSTART;TZID=America/New_York:20190409T000000
DTEND;TZID=America/New_York:20190608T000000
DTSTAMP:20260425T194610
CREATED:20230808T181902Z
LAST-MODIFIED:20230808T181904Z
UID:3933-1554768000-1559952000@www.frankisart.com
SUMMARY:Featured Artists Exhibit for April/May 2019
DESCRIPTION:Featuring Keith Allen\, Ben Hamburger\, Kaidy Lewis and Carolyn Rugen \nSHOW WILL RUN FROM APRIL 9TH-JUNE 8THRECEPTION: FRIDAY\, APRIL 12TH\, 6-8PMARTIST TALK: FRIDAY\, MAY 10TH\, 6-8PM \nStarting on April 9th FRANK gallery will have an exhibit featuring the work of Keith Allen\, Ben Hamburger\, Kaidy Lewis and Carolyn Rugen. This exciting\, colorful exhibit will showcase the differences in technique and nuanced approach to their mediums these artists share and will make up a beautifully curated show celebrating landscape\, the abstract and woodworking. \nCreating works of functional furniture art\, self-taught Keith Allen really gives detailed attention to the subtleties in the wood and highlights the natural elements of his chosen material. His striking pieces often use butterfly joints inspired by George Nakashima and he brings out the beautiful grain in his wood work by using geometric and brightly colored features drawing inspiration from Gerrit Rietveld. Painter Ben Hamburger combines his passion for social engagement and the ever-changing world around us with the visual arts to represent a diverse range of subject matter. No matter what his subject\, all his paintings share his fluid brush strokes and captivating color palette as will be seen with his plein air landscapes in April. One of FRANK’s newest members painter\, Kaidy Lewis\, draws inspiration from the world around her to create vivid\, colorful interpretations of her subject matter. Often times\, Kaidy simply hints at the objects she is representing to allow the viewer to make their own distinctions\, but she does so with skill and interjecting bits of humor. With effortlessness and sophistication\, Carolyn Rugen\, paints her perception of the living world around her. Capturing landscapes and still life’s in the abstract she allows her viewer to interpret her beautifully rendered light filled imagery how they see giving significance to the seemingly every day. \nPlease join us on Friday\, April 12th from 6-8pm to celebrate the work of these four talented artists with an opening reception with live music by Griffanzo. Refreshments will be provided. Also\, on Friday\, May 12th from 6-8pm the artists of the April/May Exhibit will be giving a talk about their techniques and the work from their current collection\, light refreshments will be provided.
URL:https://www.frankisart.com/event/featured-artists-exhibit-for-april-may-2019/
LOCATION:NC
CATEGORIES:Exhibit
ATTACH;FMTTYPE=image/jpeg:https://www.frankisart.com/wp-content/uploads/2023/08/ShowCardforAprilCROP.jpg
END:VEVENT
END:VCALENDAR