BEGIN:VCALENDAR
VERSION:2.0
PRODID:-//FRANK Gallery - ECPv6.15.20//NONSGML v1.0//EN
CALSCALE:GREGORIAN
METHOD:PUBLISH
X-WR-CALNAME:FRANK Gallery
X-ORIGINAL-URL:https://www.frankisart.com
X-WR-CALDESC:Events for FRANK Gallery
REFRESH-INTERVAL;VALUE=DURATION:PT1H
X-Robots-Tag:noindex
X-PUBLISHED-TTL:PT1H
BEGIN:VTIMEZONE
TZID:America/New_York
BEGIN:DAYLIGHT
TZOFFSETFROM:-0500
TZOFFSETTO:-0400
TZNAME:EDT
DTSTART:20180311T070000
END:DAYLIGHT
BEGIN:STANDARD
TZOFFSETFROM:-0400
TZOFFSETTO:-0500
TZNAME:EST
DTSTART:20181104T060000
END:STANDARD
BEGIN:DAYLIGHT
TZOFFSETFROM:-0500
TZOFFSETTO:-0400
TZNAME:EDT
DTSTART:20190310T070000
END:DAYLIGHT
BEGIN:STANDARD
TZOFFSETFROM:-0400
TZOFFSETTO:-0500
TZNAME:EST
DTSTART:20191103T060000
END:STANDARD
BEGIN:DAYLIGHT
TZOFFSETFROM:-0500
TZOFFSETTO:-0400
TZNAME:EDT
DTSTART:20200308T070000
END:DAYLIGHT
BEGIN:STANDARD
TZOFFSETFROM:-0400
TZOFFSETTO:-0500
TZNAME:EST
DTSTART:20201101T060000
END:STANDARD
END:VTIMEZONE
BEGIN:VEVENT
DTSTART;TZID=America/New_York:20190205T000000
DTEND;TZID=America/New_York:20190406T000000
DTSTAMP:20260425T232035
CREATED:20230808T181809Z
LAST-MODIFIED:20230808T181811Z
UID:3935-1549324800-1554508800@www.frankisart.com
SUMMARY:Featured Artists Exhibit for February/March 2019
DESCRIPTION:Featuring Peg Bachenheimer\, Sasha Bakaric\, Susan Filley & Sudie Rakusin \nSHOW WILL RUN FROM FEBRUARY 5TH-APRIL 6THRECEPTION: FRIDAY\, FEBRUARY 8TH\, 6-8PMARTIST TALK: FRIDAY\, MARCH 8TH\, 6-8PM \nBeginning on February 5th we will be showcasing the work of four FRANK artists in a new exhibit entitled\, “Color and Light.” Ceramicists Sasha Bakaric and Susan Filley join painter Peg Bachenheimer and mixed media artist Sudie Rakusin for an inspiring show. Though all of the artists approach their medium in a creative and expertly executed way they all exemplify the theme of the exhibit uniquely.Working in porcelain\, Susan Filley creates exquisite functional and sculptural pieces that give the viewer insight to the delicate and complex nature of glazes and porcelain work. Inspired by cells and microbiology\, Sasha Bakaric typically works with white stoneware coated with terra sigillata to create interesting surfaces\, always challenging her technique and creative sensibilities her new work is guaranteed to be distinctively unique. Sudie Rakusin is a visual artist\, sculptor\, illustrator\, and children’s book author\, and though excelling in so many different disciplines\, it is Sudie’s harmonious and emotive approach to her figurative and abstract paintings and sculptures that will be highlighted in the show. The use of color and texture in Peg Bachenheimer’s graceful and beautiful paintings is ever evolving\, however\, the constant in her abstract and landscape pieces is the ease in which she delivers a gloriously light filled finished piece.Please join us on Friday\, February 8th from 6-8pm to celebrate the work of these four talented artists with an opening reception for Color and Light with music by Griffanzo. Refreshments will be provided. Also\, on Friday\, March 8th from 6-8pm the artists of Color and Light will be giving a talk about their techniques and the work from their current collection\, light refreshments will be provided.
URL:https://www.frankisart.com/event/featured-artists-exhibit-for-february-march-2019/
LOCATION:NC
CATEGORIES:Exhibit
ATTACH;FMTTYPE=image/jpeg:https://www.frankisart.com/wp-content/uploads/2023/08/Feb-ShowcardCropped.jpg
END:VEVENT
END:VCALENDAR